BEGIN:VCALENDAR
VERSION:2.0
PRODID:-//Mt. Moriah Missionary Baptist Church - ECPv6.15.17.1//NONSGML v1.0//EN
CALSCALE:GREGORIAN
METHOD:PUBLISH
X-WR-CALNAME:Mt. Moriah Missionary Baptist Church
X-ORIGINAL-URL:https://mtmoriahauburn.com
X-WR-CALDESC:Events for Mt. Moriah Missionary Baptist Church
REFRESH-INTERVAL;VALUE=DURATION:PT1H
X-Robots-Tag:noindex
X-PUBLISHED-TTL:PT1H
BEGIN:VTIMEZONE
TZID:UTC
BEGIN:STANDARD
TZOFFSETFROM:+0000
TZOFFSETTO:+0000
TZNAME:UTC
DTSTART:20240101T000000
END:STANDARD
END:VTIMEZONE
BEGIN:VEVENT
DTSTART;TZID=UTC:20251207T093000
DTEND;TZID=UTC:20251207T103000
DTSTAMP:20260423T054208
CREATED:20250903T182934Z
LAST-MODIFIED:20250903T182934Z
UID:2282-1765099800-1765103400@mtmoriahauburn.com
SUMMARY:Sunday School
DESCRIPTION:In-person weekly Sunday School begins at 9:30am. If you can’t make it in person\, you can join us from home\, via Zoom. Copy the link or use the dial-in number and enter the meeting ID. \n*Join Zoom Meeting\nhttps://us02web.zoom.us/j/85821149959\nMeeting ID: 858 2114 9959 \n*Dial-in number\n312-626-6799\nMeeting ID: 858 2114 9959
URL:https://mtmoriahauburn.com/event/sunday-school-50/
ATTACH;FMTTYPE=image/jpeg:https://mtmoriahauburn.com/wp-content/uploads/2024/11/Sunday-School-image-events.jpg
END:VEVENT
BEGIN:VEVENT
DTSTART;TZID=UTC:20251203T174500
DTEND;TZID=UTC:20251203T184500
DTSTAMP:20260423T054208
CREATED:20250903T183558Z
LAST-MODIFIED:20250903T183558Z
UID:2293-1764783900-1764787500@mtmoriahauburn.com
SUMMARY:Prayer Meeting
DESCRIPTION:Join us on the first Wednesday of every month for our prayer meeting via Zoom. \n*Join Zoom Meeting https://us02web.zoom.us/j/85821149959 Meeting ID: 858 2114 9959
URL:https://mtmoriahauburn.com/event/prayer-meeting-11/
END:VEVENT
BEGIN:VEVENT
DTSTART;TZID=UTC:20251130T110000
DTEND;TZID=UTC:20251130T123000
DTSTAMP:20260423T054208
CREATED:20250903T180458Z
LAST-MODIFIED:20250903T180458Z
UID:2248-1764500400-1764505800@mtmoriahauburn.com
SUMMARY:Worship Service
DESCRIPTION:We welcome you to worship with us every Sunday at 11am. Our services are also broadcast on Facebook Live for viewing at any time. \nFB: https://www.facebook.com/people/Mt-Moriah-Missionary-Baptist-Church/100064628984280/
URL:https://mtmoriahauburn.com/event/worship-service-52/
LOCATION:Mt. Moriah Missionary Baptist Church\, 2255 Wrights Mill Rd\, Auburn\, AL\, 36830\, United States
ATTACH;FMTTYPE=image/jpeg:https://mtmoriahauburn.com/wp-content/uploads/2024/11/Sign-Outside-Church.jpg
END:VEVENT
BEGIN:VEVENT
DTSTART;TZID=UTC:20251130T093000
DTEND;TZID=UTC:20251130T103000
DTSTAMP:20260423T054208
CREATED:20250903T182222Z
LAST-MODIFIED:20250903T182222Z
UID:2280-1764495000-1764498600@mtmoriahauburn.com
SUMMARY:Sunday School
DESCRIPTION:In-person weekly Sunday School begins at 9:30am. If you can’t make it in person\, you can join us from home\, via Zoom. Copy the link or use the dial-in number and enter the meeting ID. \n*Join Zoom Meeting\nhttps://us02web.zoom.us/j/85821149959\nMeeting ID: 858 2114 9959 \n*Dial-in number\n312-626-6799\nMeeting ID: 858 2114 9959
URL:https://mtmoriahauburn.com/event/sunday-school-49/
LOCATION:Mt. Moriah Missionary Baptist Church\, 2255 Wrights Mill Rd\, Auburn\, AL\, 36830\, United States
ATTACH;FMTTYPE=image/jpeg:https://mtmoriahauburn.com/wp-content/uploads/2024/11/Sunday-School-image-events.jpg
END:VEVENT
BEGIN:VEVENT
DTSTART;TZID=UTC:20251126T174500
DTEND;TZID=UTC:20251126T184500
DTSTAMP:20260423T054208
CREATED:20250903T184753Z
LAST-MODIFIED:20250903T184753Z
UID:2315-1764179100-1764182700@mtmoriahauburn.com
SUMMARY:Bible Study
DESCRIPTION:Join us for our Bible Study via Zoom. \n*Join Zoom Meeting\nhttps://us02web.zoom.us/j/85821149959 \nMeeting ID: 858 2114 9959
URL:https://mtmoriahauburn.com/event/bible-study-40/
ATTACH;FMTTYPE=image/png:https://mtmoriahauburn.com/wp-content/uploads/2024/11/Bible-Study-Image.png
END:VEVENT
BEGIN:VEVENT
DTSTART;TZID=UTC:20251123T110000
DTEND;TZID=UTC:20251123T123000
DTSTAMP:20260423T054208
CREATED:20250903T180344Z
LAST-MODIFIED:20250903T180344Z
UID:2246-1763895600-1763901000@mtmoriahauburn.com
SUMMARY:Worship Service
DESCRIPTION:We welcome you to worship with us every Sunday at 11am. Our services are also broadcast on Facebook Live for viewing at any time. \nFB: https://www.facebook.com/people/Mt-Moriah-Missionary-Baptist-Church/100064628984280/
URL:https://mtmoriahauburn.com/event/worship-service-51/
LOCATION:Mt. Moriah Missionary Baptist Church\, 2255 Wrights Mill Rd\, Auburn\, AL\, 36830\, United States
ATTACH;FMTTYPE=image/jpeg:https://mtmoriahauburn.com/wp-content/uploads/2024/11/Sign-Outside-Church.jpg
END:VEVENT
BEGIN:VEVENT
DTSTART;TZID=UTC:20251123T093000
DTEND;TZID=UTC:20251123T103000
DTSTAMP:20260423T054208
CREATED:20250903T182120Z
LAST-MODIFIED:20250903T182120Z
UID:2275-1763890200-1763893800@mtmoriahauburn.com
SUMMARY:Sunday School
DESCRIPTION:In-person weekly Sunday School begins at 9:30am. If you can’t make it in person\, you can join us from home\, via Zoom. Copy the link or use the dial-in number and enter the meeting ID. \n*Join Zoom Meeting\nhttps://us02web.zoom.us/j/85821149959\nMeeting ID: 858 2114 9959 \n*Dial-in number\n312-626-6799\nMeeting ID: 858 2114 9959
URL:https://mtmoriahauburn.com/event/sunday-school-48/
LOCATION:Mt. Moriah Missionary Baptist Church\, 2255 Wrights Mill Rd\, Auburn\, AL\, 36830\, United States
ATTACH;FMTTYPE=image/jpeg:https://mtmoriahauburn.com/wp-content/uploads/2024/11/Sunday-School-image-events.jpg
END:VEVENT
BEGIN:VEVENT
DTSTART;TZID=UTC:20251119T174500
DTEND;TZID=UTC:20251119T184500
DTSTAMP:20260423T054208
CREATED:20250903T184719Z
LAST-MODIFIED:20250903T184719Z
UID:2314-1763574300-1763577900@mtmoriahauburn.com
SUMMARY:Bible Study
DESCRIPTION:Join us for our Bible Study via Zoom. \n*Join Zoom Meeting\nhttps://us02web.zoom.us/j/85821149959 \nMeeting ID: 858 2114 9959
URL:https://mtmoriahauburn.com/event/bible-study-39/
ATTACH;FMTTYPE=image/png:https://mtmoriahauburn.com/wp-content/uploads/2024/11/Bible-Study-Image.png
END:VEVENT
BEGIN:VEVENT
DTSTART;TZID=UTC:20251116T110000
DTEND;TZID=UTC:20251116T123000
DTSTAMP:20260423T054208
CREATED:20250903T180229Z
LAST-MODIFIED:20250903T180229Z
UID:2244-1763290800-1763296200@mtmoriahauburn.com
SUMMARY:Worship Service
DESCRIPTION:We welcome you to worship with us every Sunday at 11am. Our services are also broadcast on Facebook Live for viewing at any time. \nFB: https://www.facebook.com/people/Mt-Moriah-Missionary-Baptist-Church/100064628984280/
URL:https://mtmoriahauburn.com/event/worship-service-50/
LOCATION:Mt. Moriah Missionary Baptist Church\, 2255 Wrights Mill Rd\, Auburn\, AL\, 36830\, United States
ATTACH;FMTTYPE=image/jpeg:https://mtmoriahauburn.com/wp-content/uploads/2024/11/Sign-Outside-Church.jpg
END:VEVENT
BEGIN:VEVENT
DTSTART;TZID=UTC:20251116T093000
DTEND;TZID=UTC:20251116T103000
DTSTAMP:20260423T054208
CREATED:20250903T182100Z
LAST-MODIFIED:20250903T182100Z
UID:2274-1763285400-1763289000@mtmoriahauburn.com
SUMMARY:Sunday School
DESCRIPTION:In-person weekly Sunday School begins at 9:30am. If you can’t make it in person\, you can join us from home\, via Zoom. Copy the link or use the dial-in number and enter the meeting ID. \n*Join Zoom Meeting\nhttps://us02web.zoom.us/j/85821149959\nMeeting ID: 858 2114 9959 \n*Dial-in number\n312-626-6799\nMeeting ID: 858 2114 9959
URL:https://mtmoriahauburn.com/event/sunday-school-47/
LOCATION:Mt. Moriah Missionary Baptist Church\, 2255 Wrights Mill Rd\, Auburn\, AL\, 36830\, United States
ATTACH;FMTTYPE=image/jpeg:https://mtmoriahauburn.com/wp-content/uploads/2024/11/Sunday-School-image-events.jpg
END:VEVENT
BEGIN:VEVENT
DTSTART;TZID=UTC:20251112T174500
DTEND;TZID=UTC:20251112T184500
DTSTAMP:20260423T054208
CREATED:20250903T184531Z
LAST-MODIFIED:20250903T184531Z
UID:2309-1762969500-1762973100@mtmoriahauburn.com
SUMMARY:Bible Study
DESCRIPTION:Join us for our Bible Study via Zoom. \n*Join Zoom Meeting\nhttps://us02web.zoom.us/j/85821149959 \nMeeting ID: 858 2114 9959
URL:https://mtmoriahauburn.com/event/bible-study-38/
ATTACH;FMTTYPE=image/png:https://mtmoriahauburn.com/wp-content/uploads/2024/11/Bible-Study-Image.png
END:VEVENT
BEGIN:VEVENT
DTSTART;TZID=UTC:20251109T110000
DTEND;TZID=UTC:20251109T123000
DTSTAMP:20260423T054208
CREATED:20250903T180121Z
LAST-MODIFIED:20250903T180121Z
UID:2242-1762686000-1762691400@mtmoriahauburn.com
SUMMARY:Worship Service
DESCRIPTION:We welcome you to worship with us every Sunday at 11am. Our services are also broadcast on Facebook Live for viewing at any time. \nFB: https://www.facebook.com/people/Mt-Moriah-Missionary-Baptist-Church/100064628984280/
URL:https://mtmoriahauburn.com/event/worship-service-49/
LOCATION:Mt. Moriah Missionary Baptist Church\, 2255 Wrights Mill Rd\, Auburn\, AL\, 36830\, United States
ATTACH;FMTTYPE=image/jpeg:https://mtmoriahauburn.com/wp-content/uploads/2024/11/Sign-Outside-Church.jpg
END:VEVENT
BEGIN:VEVENT
DTSTART;TZID=UTC:20251109T093000
DTEND;TZID=UTC:20251109T103000
DTSTAMP:20260423T054208
CREATED:20250903T182043Z
LAST-MODIFIED:20250903T182043Z
UID:2273-1762680600-1762684200@mtmoriahauburn.com
SUMMARY:Sunday School
DESCRIPTION:In-person weekly Sunday School begins at 9:30am. If you can’t make it in person\, you can join us from home\, via Zoom. Copy the link or use the dial-in number and enter the meeting ID. \n*Join Zoom Meeting\nhttps://us02web.zoom.us/j/85821149959\nMeeting ID: 858 2114 9959 \n*Dial-in number\n312-626-6799\nMeeting ID: 858 2114 9959
URL:https://mtmoriahauburn.com/event/sunday-school-46/
LOCATION:Mt. Moriah Missionary Baptist Church\, 2255 Wrights Mill Rd\, Auburn\, AL\, 36830\, United States
ATTACH;FMTTYPE=image/jpeg:https://mtmoriahauburn.com/wp-content/uploads/2024/11/Sunday-School-image-events.jpg
END:VEVENT
BEGIN:VEVENT
DTSTART;TZID=UTC:20251105T174500
DTEND;TZID=UTC:20251105T184500
DTSTAMP:20260423T054208
CREATED:20250903T183515Z
LAST-MODIFIED:20250903T183515Z
UID:2292-1762364700-1762368300@mtmoriahauburn.com
SUMMARY:Prayer Meeting
DESCRIPTION:Join us on the first Wednesday of every month for our prayer meeting via Zoom. \n*Join Zoom Meeting https://us02web.zoom.us/j/85821149959 Meeting ID: 858 2114 9959
URL:https://mtmoriahauburn.com/event/prayer-meeting-10/
END:VEVENT
BEGIN:VEVENT
DTSTART;TZID=UTC:20251102T110000
DTEND;TZID=UTC:20251102T123000
DTSTAMP:20260423T054208
CREATED:20250903T180007Z
LAST-MODIFIED:20250903T180007Z
UID:2240-1762081200-1762086600@mtmoriahauburn.com
SUMMARY:Worship Service
DESCRIPTION:We welcome you to worship with us every Sunday at 11am. Our services are also broadcast on Facebook Live for viewing at any time. \nFB: https://www.facebook.com/people/Mt-Moriah-Missionary-Baptist-Church/100064628984280/
URL:https://mtmoriahauburn.com/event/worship-service-48/
LOCATION:Mt. Moriah Missionary Baptist Church\, 2255 Wrights Mill Rd\, Auburn\, AL\, 36830\, United States
ATTACH;FMTTYPE=image/jpeg:https://mtmoriahauburn.com/wp-content/uploads/2024/11/Sign-Outside-Church.jpg
END:VEVENT
BEGIN:VEVENT
DTSTART;TZID=UTC:20251102T093000
DTEND;TZID=UTC:20251102T103000
DTSTAMP:20260423T054208
CREATED:20250903T182027Z
LAST-MODIFIED:20250903T182027Z
UID:2272-1762075800-1762079400@mtmoriahauburn.com
SUMMARY:Sunday School
DESCRIPTION:In-person weekly Sunday School begins at 9:30am. If you can’t make it in person\, you can join us from home\, via Zoom. Copy the link or use the dial-in number and enter the meeting ID. \n*Join Zoom Meeting\nhttps://us02web.zoom.us/j/85821149959\nMeeting ID: 858 2114 9959 \n*Dial-in number\n312-626-6799\nMeeting ID: 858 2114 9959
URL:https://mtmoriahauburn.com/event/sunday-school-45/
LOCATION:Mt. Moriah Missionary Baptist Church\, 2255 Wrights Mill Rd\, Auburn\, AL\, 36830\, United States
ATTACH;FMTTYPE=image/jpeg:https://mtmoriahauburn.com/wp-content/uploads/2024/11/Sunday-School-image-events.jpg
END:VEVENT
BEGIN:VEVENT
DTSTART;TZID=UTC:20251029T174500
DTEND;TZID=UTC:20251029T184500
DTSTAMP:20260423T054208
CREATED:20250903T184428Z
LAST-MODIFIED:20250903T184428Z
UID:2308-1761759900-1761763500@mtmoriahauburn.com
SUMMARY:Bible Study
DESCRIPTION:Join us for our Bible Study via Zoom. \n*Join Zoom Meeting\nhttps://us02web.zoom.us/j/85821149959 \nMeeting ID: 858 2114 9959
URL:https://mtmoriahauburn.com/event/bible-study-37/
ATTACH;FMTTYPE=image/png:https://mtmoriahauburn.com/wp-content/uploads/2024/11/Bible-Study-Image.png
END:VEVENT
BEGIN:VEVENT
DTSTART;TZID=UTC:20251026T110000
DTEND;TZID=UTC:20251026T123000
DTSTAMP:20260423T054208
CREATED:20250903T175910Z
LAST-MODIFIED:20250903T175910Z
UID:2238-1761476400-1761481800@mtmoriahauburn.com
SUMMARY:Worship Service
DESCRIPTION:We welcome you to worship with us every Sunday at 11am. Our services are also broadcast on Facebook Live for viewing at any time. \nFB: https://www.facebook.com/people/Mt-Moriah-Missionary-Baptist-Church/100064628984280/
URL:https://mtmoriahauburn.com/event/worship-service-47/
LOCATION:Mt. Moriah Missionary Baptist Church\, 2255 Wrights Mill Rd\, Auburn\, AL\, 36830\, United States
ATTACH;FMTTYPE=image/jpeg:https://mtmoriahauburn.com/wp-content/uploads/2024/11/Sign-Outside-Church.jpg
END:VEVENT
BEGIN:VEVENT
DTSTART;TZID=UTC:20251026T093000
DTEND;TZID=UTC:20251026T103000
DTSTAMP:20260423T054208
CREATED:20250903T181807Z
LAST-MODIFIED:20250903T181807Z
UID:2267-1761471000-1761474600@mtmoriahauburn.com
SUMMARY:Sunday School
DESCRIPTION:In-person weekly Sunday School begins at 9:30am. If you can’t make it in person\, you can join us from home\, via Zoom. Copy the link or use the dial-in number and enter the meeting ID. \n*Join Zoom Meeting\nhttps://us02web.zoom.us/j/85821149959\nMeeting ID: 858 2114 9959 \n*Dial-in number\n312-626-6799\nMeeting ID: 858 2114 9959
URL:https://mtmoriahauburn.com/event/sunday-school-44/
LOCATION:Mt. Moriah Missionary Baptist Church\, 2255 Wrights Mill Rd\, Auburn\, AL\, 36830\, United States
ATTACH;FMTTYPE=image/jpeg:https://mtmoriahauburn.com/wp-content/uploads/2024/11/Sunday-School-image-events.jpg
END:VEVENT
BEGIN:VEVENT
DTSTART;TZID=UTC:20251022T174500
DTEND;TZID=UTC:20251022T184500
DTSTAMP:20260423T054208
CREATED:20250903T184353Z
LAST-MODIFIED:20250903T184443Z
UID:2307-1761155100-1761158700@mtmoriahauburn.com
SUMMARY:Bible Study
DESCRIPTION:Join us for our Bible Study via Zoom. \n*Join Zoom Meeting\nhttps://us02web.zoom.us/j/85821149959 \nMeeting ID: 858 2114 9959
URL:https://mtmoriahauburn.com/event/bible-study-36/
ATTACH;FMTTYPE=image/png:https://mtmoriahauburn.com/wp-content/uploads/2024/11/Bible-Study-Image.png
END:VEVENT
BEGIN:VEVENT
DTSTART;TZID=UTC:20251019T110000
DTEND;TZID=UTC:20251019T123000
DTSTAMP:20260423T054208
CREATED:20250903T175808Z
LAST-MODIFIED:20250903T175808Z
UID:2236-1760871600-1760877000@mtmoriahauburn.com
SUMMARY:Worship Service
DESCRIPTION:We welcome you to worship with us every Sunday at 11am. Our services are also broadcast on Facebook Live for viewing at any time. \nFB: https://www.facebook.com/people/Mt-Moriah-Missionary-Baptist-Church/100064628984280/
URL:https://mtmoriahauburn.com/event/worship-service-46/
LOCATION:Mt. Moriah Missionary Baptist Church\, 2255 Wrights Mill Rd\, Auburn\, AL\, 36830\, United States
ATTACH;FMTTYPE=image/jpeg:https://mtmoriahauburn.com/wp-content/uploads/2024/11/Sign-Outside-Church.jpg
END:VEVENT
BEGIN:VEVENT
DTSTART;TZID=UTC:20251019T093000
DTEND;TZID=UTC:20251019T103000
DTSTAMP:20260423T054208
CREATED:20250903T181749Z
LAST-MODIFIED:20250903T181749Z
UID:2266-1760866200-1760869800@mtmoriahauburn.com
SUMMARY:Sunday School
DESCRIPTION:In-person weekly Sunday School begins at 9:30am. If you can’t make it in person\, you can join us from home\, via Zoom. Copy the link or use the dial-in number and enter the meeting ID. \n*Join Zoom Meeting\nhttps://us02web.zoom.us/j/85821149959\nMeeting ID: 858 2114 9959 \n*Dial-in number\n312-626-6799\nMeeting ID: 858 2114 9959
URL:https://mtmoriahauburn.com/event/sunday-school-43/
LOCATION:Mt. Moriah Missionary Baptist Church\, 2255 Wrights Mill Rd\, Auburn\, AL\, 36830\, United States
ATTACH;FMTTYPE=image/jpeg:https://mtmoriahauburn.com/wp-content/uploads/2024/11/Sunday-School-image-events.jpg
END:VEVENT
BEGIN:VEVENT
DTSTART;TZID=UTC:20251018T100000
DTEND;TZID=UTC:20251018T130000
DTSTAMP:20260423T054208
CREATED:20250924T181529Z
LAST-MODIFIED:20250924T192837Z
UID:2330-1760781600-1760792400@mtmoriahauburn.com
SUMMARY:Expungement Clinic Event
DESCRIPTION:Mt. Moriah Missionary Baptist Church\, in partnership with the NAACP\, is hosting an Expungement Clinic.
URL:https://mtmoriahauburn.com/event/expungement-clinic-event/
LOCATION:Mt. Moriah Missionary Baptist Church\, 2255 Wrights Mill Rd\, Auburn\, AL\, 36830\, United States
ATTACH;FMTTYPE=image/jpeg:https://mtmoriahauburn.com/wp-content/uploads/2025/09/expungement-clinic-save-the-date.jpeg
END:VEVENT
BEGIN:VEVENT
DTSTART;TZID=UTC:20251015T174500
DTEND;TZID=UTC:20251015T184500
DTSTAMP:20260423T054208
CREATED:20250903T184326Z
LAST-MODIFIED:20250903T184326Z
UID:2306-1760550300-1760553900@mtmoriahauburn.com
SUMMARY:Bible Study
DESCRIPTION:Join us for our Bible Study via Zoom. \n*Join Zoom Meeting\nhttps://us02web.zoom.us/j/85821149959 \nMeeting ID: 858 2114 9959
URL:https://mtmoriahauburn.com/event/bible-study-35/
ATTACH;FMTTYPE=image/png:https://mtmoriahauburn.com/wp-content/uploads/2024/11/Bible-Study-Image.png
END:VEVENT
BEGIN:VEVENT
DTSTART;TZID=UTC:20251012T110000
DTEND;TZID=UTC:20251012T123000
DTSTAMP:20260423T054208
CREATED:20250903T175712Z
LAST-MODIFIED:20250903T175712Z
UID:2234-1760266800-1760272200@mtmoriahauburn.com
SUMMARY:Worship Service
DESCRIPTION:We welcome you to worship with us every Sunday at 11am. Our services are also broadcast on Facebook Live for viewing at any time. \nFB: https://www.facebook.com/people/Mt-Moriah-Missionary-Baptist-Church/100064628984280/
URL:https://mtmoriahauburn.com/event/worship-service-45/
LOCATION:Mt. Moriah Missionary Baptist Church\, 2255 Wrights Mill Rd\, Auburn\, AL\, 36830\, United States
ATTACH;FMTTYPE=image/jpeg:https://mtmoriahauburn.com/wp-content/uploads/2024/11/Sign-Outside-Church.jpg
END:VEVENT
BEGIN:VEVENT
DTSTART;TZID=UTC:20251012T093000
DTEND;TZID=UTC:20251012T103000
DTSTAMP:20260423T054208
CREATED:20250903T181726Z
LAST-MODIFIED:20250903T181726Z
UID:2265-1760261400-1760265000@mtmoriahauburn.com
SUMMARY:Sunday School
DESCRIPTION:In-person weekly Sunday School begins at 9:30am. If you can’t make it in person\, you can join us from home\, via Zoom. Copy the link or use the dial-in number and enter the meeting ID. \n*Join Zoom Meeting\nhttps://us02web.zoom.us/j/85821149959\nMeeting ID: 858 2114 9959 \n*Dial-in number\n312-626-6799\nMeeting ID: 858 2114 9959
URL:https://mtmoriahauburn.com/event/sunday-school-42/
LOCATION:Mt. Moriah Missionary Baptist Church\, 2255 Wrights Mill Rd\, Auburn\, AL\, 36830\, United States
ATTACH;FMTTYPE=image/jpeg:https://mtmoriahauburn.com/wp-content/uploads/2024/11/Sunday-School-image-events.jpg
END:VEVENT
BEGIN:VEVENT
DTSTART;TZID=UTC:20251008T174500
DTEND;TZID=UTC:20251008T184500
DTSTAMP:20260423T054208
CREATED:20250903T184133Z
LAST-MODIFIED:20250903T184133Z
UID:2301-1759945500-1759949100@mtmoriahauburn.com
SUMMARY:Bible Study
DESCRIPTION:Join us for our Bible Study via Zoom. \n*Join Zoom Meeting\nhttps://us02web.zoom.us/j/85821149959 \nMeeting ID: 858 2114 9959
URL:https://mtmoriahauburn.com/event/bible-study-34/
ATTACH;FMTTYPE=image/png:https://mtmoriahauburn.com/wp-content/uploads/2024/11/Bible-Study-Image.png
END:VEVENT
BEGIN:VEVENT
DTSTART;TZID=UTC:20251007T180000
DTEND;TZID=UTC:20251007T200000
DTSTAMP:20260423T054208
CREATED:20250924T180911Z
LAST-MODIFIED:20250924T180911Z
UID:2327-1759860000-1759867200@mtmoriahauburn.com
SUMMARY:25th Annual Clergy Appreciation Event
DESCRIPTION:Join us for the 25th Annual Clergy Appreciation event.
URL:https://mtmoriahauburn.com/event/25th-annual-clergy-appreciation-event/
LOCATION:Greater Peace Baptist Church\, 650 Jeter Avenue\, Opelika\, AL\, 36801\, United States
END:VEVENT
BEGIN:VEVENT
DTSTART;TZID=UTC:20251005T110000
DTEND;TZID=UTC:20251005T123000
DTSTAMP:20260423T054208
CREATED:20250903T175605Z
LAST-MODIFIED:20250903T175605Z
UID:2232-1759662000-1759667400@mtmoriahauburn.com
SUMMARY:Worship Service
DESCRIPTION:We welcome you to worship with us every Sunday at 11am. Our services are also broadcast on Facebook Live for viewing at any time. \nFB: https://www.facebook.com/people/Mt-Moriah-Missionary-Baptist-Church/100064628984280/
URL:https://mtmoriahauburn.com/event/worship-service-44/
LOCATION:Mt. Moriah Missionary Baptist Church\, 2255 Wrights Mill Rd\, Auburn\, AL\, 36830\, United States
ATTACH;FMTTYPE=image/jpeg:https://mtmoriahauburn.com/wp-content/uploads/2024/11/Sign-Outside-Church.jpg
END:VEVENT
BEGIN:VEVENT
DTSTART;TZID=UTC:20251005T093000
DTEND;TZID=UTC:20251005T103000
DTSTAMP:20260423T054208
CREATED:20250903T181705Z
LAST-MODIFIED:20250903T181705Z
UID:2264-1759656600-1759660200@mtmoriahauburn.com
SUMMARY:Sunday School
DESCRIPTION:In-person weekly Sunday School begins at 9:30am. If you can’t make it in person\, you can join us from home\, via Zoom. Copy the link or use the dial-in number and enter the meeting ID. \n*Join Zoom Meeting\nhttps://us02web.zoom.us/j/85821149959\nMeeting ID: 858 2114 9959 \n*Dial-in number\n312-626-6799\nMeeting ID: 858 2114 9959
URL:https://mtmoriahauburn.com/event/sunday-school-41/
LOCATION:Mt. Moriah Missionary Baptist Church\, 2255 Wrights Mill Rd\, Auburn\, AL\, 36830\, United States
ATTACH;FMTTYPE=image/jpeg:https://mtmoriahauburn.com/wp-content/uploads/2024/11/Sunday-School-image-events.jpg
END:VEVENT
END:VCALENDAR