BEGIN:VCALENDAR
VERSION:2.0
PRODID:-//Mt. Moriah Missionary Baptist Church - ECPv6.15.17.1//NONSGML v1.0//EN
CALSCALE:GREGORIAN
METHOD:PUBLISH
X-WR-CALNAME:Mt. Moriah Missionary Baptist Church
X-ORIGINAL-URL:https://mtmoriahauburn.com
X-WR-CALDESC:Events for Mt. Moriah Missionary Baptist Church
REFRESH-INTERVAL;VALUE=DURATION:PT1H
X-Robots-Tag:noindex
X-PUBLISHED-TTL:PT1H
BEGIN:VTIMEZONE
TZID:UTC
BEGIN:STANDARD
TZOFFSETFROM:+0000
TZOFFSETTO:+0000
TZNAME:UTC
DTSTART:20240101T000000
END:STANDARD
END:VTIMEZONE
BEGIN:VEVENT
DTSTART;TZID=UTC:20260118T110000
DTEND;TZID=UTC:20260118T123000
DTSTAMP:20260423T003752
CREATED:20260102T194211Z
LAST-MODIFIED:20260102T194211Z
UID:2427-1768734000-1768739400@mtmoriahauburn.com
SUMMARY:Worship Service
DESCRIPTION:We welcome you to worship with us every Sunday at 11am. Our services are also broadcast on Facebook Live for viewing at any time. \nFB: https://www.facebook.com/people/Mt-Moriah-Missionary-Baptist-Church/100064628984280/
URL:https://mtmoriahauburn.com/event/worship-service-58/
LOCATION:Mt. Moriah Missionary Baptist Church\, 2255 Wrights Mill Rd\, Auburn\, AL\, 36830\, United States
ATTACH;FMTTYPE=image/jpeg:https://mtmoriahauburn.com/wp-content/uploads/2024/11/Sign-Outside-Church.jpg
END:VEVENT
BEGIN:VEVENT
DTSTART;TZID=UTC:20260118T093000
DTEND;TZID=UTC:20260118T103000
DTSTAMP:20260423T003752
CREATED:20260102T192132Z
LAST-MODIFIED:20260102T192132Z
UID:2411-1768728600-1768732200@mtmoriahauburn.com
SUMMARY:Sunday School
DESCRIPTION:In-person weekly Sunday School begins at 9:30am. If you can’t make it in person\, you can join us from home\, via Zoom. Copy the link or use the dial-in number and enter the meeting ID.  \n*Join Zoom Meeting\nhttps://us02web.zoom.us/j/3658351687\nMeeting ID: 365 835 1687 \n*Dial-in number\n646-931-3860 OR 365-835-1687\nMeeting ID: 365 835 1687
URL:https://mtmoriahauburn.com/event/sunday-school-56/
LOCATION:Mt. Moriah Missionary Baptist Church\, 2255 Wrights Mill Rd\, Auburn\, AL\, 36830\, United States
ATTACH;FMTTYPE=image/jpeg:https://mtmoriahauburn.com/wp-content/uploads/2024/11/Sunday-School-image-events.jpg
END:VEVENT
BEGIN:VEVENT
DTSTART;TZID=UTC:20260114T174500
DTEND;TZID=UTC:20260114T184500
DTSTAMP:20260423T003752
CREATED:20260102T195932Z
LAST-MODIFIED:20260114T194131Z
UID:2447-1768412700-1768416300@mtmoriahauburn.com
SUMMARY:Bible Study
DESCRIPTION:Join us for our Bible Study in person or via Zoom. \n*Join Zoom Meeting\nhttps://us02web.zoom.us/j/3658351687\nMeeting ID: 365 835 1687
URL:https://mtmoriahauburn.com/event/bible-study-via-zoom/
LOCATION:Mt. Moriah Missionary Baptist Church\, 2255 Wrights Mill Rd\, Auburn\, AL\, 36830\, United States
ATTACH;FMTTYPE=image/png:https://mtmoriahauburn.com/wp-content/uploads/2024/11/Bible-Study-Image.png
END:VEVENT
BEGIN:VEVENT
DTSTART;TZID=UTC:20260111T110000
DTEND;TZID=UTC:20260111T123000
DTSTAMP:20260423T003752
CREATED:20260102T194122Z
LAST-MODIFIED:20260102T194122Z
UID:2425-1768129200-1768134600@mtmoriahauburn.com
SUMMARY:Worship Service
DESCRIPTION:We welcome you to worship with us every Sunday at 11am. Our services are also broadcast on Facebook Live for viewing at any time. \nFB: https://www.facebook.com/people/Mt-Moriah-Missionary-Baptist-Church/100064628984280/
URL:https://mtmoriahauburn.com/event/worship-service-57/
LOCATION:Mt. Moriah Missionary Baptist Church\, 2255 Wrights Mill Rd\, Auburn\, AL\, 36830\, United States
ATTACH;FMTTYPE=image/jpeg:https://mtmoriahauburn.com/wp-content/uploads/2024/11/Sign-Outside-Church.jpg
END:VEVENT
BEGIN:VEVENT
DTSTART;TZID=UTC:20260111T093000
DTEND;TZID=UTC:20260111T103000
DTSTAMP:20260423T003752
CREATED:20260102T192028Z
LAST-MODIFIED:20260102T192028Z
UID:2409-1768123800-1768127400@mtmoriahauburn.com
SUMMARY:Sunday School
DESCRIPTION:In-person weekly Sunday School begins at 9:30am. If you can’t make it in person\, you can join us from home\, via Zoom. Copy the link or use the dial-in number and enter the meeting ID.  \n*Join Zoom Meeting\nhttps://us02web.zoom.us/j/3658351687\nMeeting ID: 365 835 1687 \n*Dial-in number\n646-931-3860 OR 365-835-1687\nMeeting ID: 365 835 1687
URL:https://mtmoriahauburn.com/event/sunday-school-55/
LOCATION:Mt. Moriah Missionary Baptist Church\, 2255 Wrights Mill Rd\, Auburn\, AL\, 36830\, United States
ATTACH;FMTTYPE=image/jpeg:https://mtmoriahauburn.com/wp-content/uploads/2024/11/Sunday-School-image-events.jpg
END:VEVENT
BEGIN:VEVENT
DTSTART;TZID=UTC:20260107T174500
DTEND;TZID=UTC:20260107T184500
DTSTAMP:20260423T003752
CREATED:20260102T195240Z
LAST-MODIFIED:20260102T200025Z
UID:2441-1767807900-1767811500@mtmoriahauburn.com
SUMMARY:Prayer Meeting (Via Zoom)
DESCRIPTION:Join us on the first Wednesday of every month for our prayer meeting via Zoom. \n*Join Zoom Meeting:\nhttps://us02web.zoom.us/j/3658351687\nMeeting ID: 365 835 1687
URL:https://mtmoriahauburn.com/event/prayer-meeting-via-zoom-3/
LOCATION:AL
END:VEVENT
BEGIN:VEVENT
DTSTART;TZID=UTC:20260104T110000
DTEND;TZID=UTC:20260104T123000
DTSTAMP:20260423T003752
CREATED:20260102T193924Z
LAST-MODIFIED:20260102T193924Z
UID:2423-1767524400-1767529800@mtmoriahauburn.com
SUMMARY:Worship Service
DESCRIPTION:We welcome you to worship with us every Sunday at 11am. Our services are also broadcast on Facebook Live for viewing at any time. \nFB: https://www.facebook.com/people/Mt-Moriah-Missionary-Baptist-Church/100064628984280/
URL:https://mtmoriahauburn.com/event/worship-service-56/
LOCATION:Mt. Moriah Missionary Baptist Church\, 2255 Wrights Mill Rd\, Auburn\, AL\, 36830\, United States
ATTACH;FMTTYPE=image/jpeg:https://mtmoriahauburn.com/wp-content/uploads/2024/11/Sign-Outside-Church.jpg
END:VEVENT
BEGIN:VEVENT
DTSTART;TZID=UTC:20260104T093000
DTEND;TZID=UTC:20260104T103000
DTSTAMP:20260423T003752
CREATED:20260102T191901Z
LAST-MODIFIED:20260102T191901Z
UID:2407-1767519000-1767522600@mtmoriahauburn.com
SUMMARY:Sunday School
DESCRIPTION:In-person weekly Sunday School begins at 9:30am. If you can’t make it in person\, you can join us from home\, via Zoom. Copy the link or use the dial-in number and enter the meeting ID.  \n*Join Zoom Meeting\nhttps://us02web.zoom.us/j/3658351687\nMeeting ID: 365 835 1687 \n*Dial-in number\n646-931-3860 OR 365-835-1687\nMeeting ID: 365 835 1687
URL:https://mtmoriahauburn.com/event/sunday-school-54/
LOCATION:Mt. Moriah Missionary Baptist Church\, 2255 Wrights Mill Rd\, Auburn\, AL\, 36830\, United States
ATTACH;FMTTYPE=image/jpeg:https://mtmoriahauburn.com/wp-content/uploads/2024/11/Sunday-School-image-events.jpg
END:VEVENT
BEGIN:VEVENT
DTSTART;TZID=UTC:20251231T180000
DTEND;TZID=UTC:20251231T193000
DTSTAMP:20260423T003752
CREATED:20251212T182259Z
LAST-MODIFIED:20251212T182317Z
UID:2397-1767204000-1767209400@mtmoriahauburn.com
SUMMARY:Watch Night Service
DESCRIPTION:
URL:https://mtmoriahauburn.com/event/watch-night-service-2/
LOCATION:Mt. Moriah Missionary Baptist Church\, 2255 Wrights Mill Rd\, Auburn\, AL\, 36830\, United States
END:VEVENT
BEGIN:VEVENT
DTSTART;TZID=UTC:20251231T174500
DTEND;TZID=UTC:20251231T184500
DTSTAMP:20260423T003752
CREATED:20250903T185020Z
LAST-MODIFIED:20251212T182412Z
UID:2322-1767203100-1767206700@mtmoriahauburn.com
SUMMARY:Bible Study - CANCELLED
DESCRIPTION:Join us for our Bible Study via Zoom. \n*Join Zoom Meeting\nhttps://us02web.zoom.us/j/85821149959 \nMeeting ID: 858 2114 9959
URL:https://mtmoriahauburn.com/event/bible-study-43/
LOCATION:AL
ATTACH;FMTTYPE=image/png:https://mtmoriahauburn.com/wp-content/uploads/2024/11/Bible-Study-Image.png
END:VEVENT
BEGIN:VEVENT
DTSTART;TZID=UTC:20251228T110000
DTEND;TZID=UTC:20251228T123000
DTSTAMP:20260423T003752
CREATED:20250903T173528Z
LAST-MODIFIED:20250903T174753Z
UID:2218-1766919600-1766925000@mtmoriahauburn.com
SUMMARY:Worship Service
DESCRIPTION:We welcome you to worship with us every Sunday at 11am. Our services are also broadcast on Facebook Live for viewing at any time. \nFB: https://www.facebook.com/people/Mt-Moriah-Missionary-Baptist-Church/100064628984280/
URL:https://mtmoriahauburn.com/event/prayer-meeting-via-zoom-2/
LOCATION:Mt. Moriah Missionary Baptist Church\, 2255 Wrights Mill Rd\, Auburn\, AL\, 36830\, United States
ATTACH;FMTTYPE=image/jpeg:https://mtmoriahauburn.com/wp-content/uploads/2024/11/Sign-Outside-Church.jpg
END:VEVENT
BEGIN:VEVENT
DTSTART;TZID=UTC:20251228T093000
DTEND;TZID=UTC:20251228T103000
DTSTAMP:20260423T003752
CREATED:20250903T183116Z
LAST-MODIFIED:20250903T183116Z
UID:2285-1766914200-1766917800@mtmoriahauburn.com
SUMMARY:Sunday School
DESCRIPTION:In-person weekly Sunday School begins at 9:30am. If you can’t make it in person\, you can join us from home\, via Zoom. Copy the link or use the dial-in number and enter the meeting ID. \n*Join Zoom Meeting\nhttps://us02web.zoom.us/j/85821149959\nMeeting ID: 858 2114 9959 \n*Dial-in number\n312-626-6799\nMeeting ID: 858 2114 9959
URL:https://mtmoriahauburn.com/event/sunday-school-53/
LOCATION:Mt. Moriah Missionary Baptist Church\, 2255 Wrights Mill Rd\, Auburn\, AL\, 36830\, United States
ATTACH;FMTTYPE=image/jpeg:https://mtmoriahauburn.com/wp-content/uploads/2024/11/Sunday-School-image-events.jpg
END:VEVENT
BEGIN:VEVENT
DTSTART;TZID=UTC:20251221T110000
DTEND;TZID=UTC:20251221T123000
DTSTAMP:20260423T003752
CREATED:20250903T180909Z
LAST-MODIFIED:20250903T180909Z
UID:2254-1766314800-1766320200@mtmoriahauburn.com
SUMMARY:Worship Service
DESCRIPTION:We welcome you to worship with us every Sunday at 11am. Our services are also broadcast on Facebook Live for viewing at any time. \nFB: https://www.facebook.com/people/Mt-Moriah-Missionary-Baptist-Church/100064628984280/
URL:https://mtmoriahauburn.com/event/worship-service-55/
LOCATION:Mt. Moriah Missionary Baptist Church\, 2255 Wrights Mill Rd\, Auburn\, AL\, 36830\, United States
ATTACH;FMTTYPE=image/jpeg:https://mtmoriahauburn.com/wp-content/uploads/2024/11/Sign-Outside-Church.jpg
END:VEVENT
BEGIN:VEVENT
DTSTART;TZID=UTC:20251221T093000
DTEND;TZID=UTC:20251221T103000
DTSTAMP:20260423T003752
CREATED:20250903T183035Z
LAST-MODIFIED:20250903T183035Z
UID:2284-1766309400-1766313000@mtmoriahauburn.com
SUMMARY:Sunday School
DESCRIPTION:In-person weekly Sunday School begins at 9:30am. If you can’t make it in person\, you can join us from home\, via Zoom. Copy the link or use the dial-in number and enter the meeting ID. \n*Join Zoom Meeting\nhttps://us02web.zoom.us/j/85821149959\nMeeting ID: 858 2114 9959 \n*Dial-in number\n312-626-6799\nMeeting ID: 858 2114 9959
URL:https://mtmoriahauburn.com/event/sunday-school-52/
LOCATION:Mt. Moriah Missionary Baptist Church\, 2255 Wrights Mill Rd\, Auburn\, AL\, 36830\, United States
ATTACH;FMTTYPE=image/jpeg:https://mtmoriahauburn.com/wp-content/uploads/2024/11/Sunday-School-image-events.jpg
END:VEVENT
BEGIN:VEVENT
DTSTART;TZID=UTC:20251217T174500
DTEND;TZID=UTC:20251217T184500
DTSTAMP:20260423T003752
CREATED:20250903T184918Z
LAST-MODIFIED:20250903T184918Z
UID:2317-1765993500-1765997100@mtmoriahauburn.com
SUMMARY:Bible Study
DESCRIPTION:Join us for our Bible Study via Zoom. \n*Join Zoom Meeting\nhttps://us02web.zoom.us/j/85821149959 \nMeeting ID: 858 2114 9959
URL:https://mtmoriahauburn.com/event/bible-study-42/
LOCATION:AL
ATTACH;FMTTYPE=image/png:https://mtmoriahauburn.com/wp-content/uploads/2024/11/Bible-Study-Image.png
END:VEVENT
BEGIN:VEVENT
DTSTART;TZID=UTC:20251214T110000
DTEND;TZID=UTC:20251214T123000
DTSTAMP:20260423T003752
CREATED:20251212T182138Z
LAST-MODIFIED:20251212T182138Z
UID:2395-1765710000-1765715400@mtmoriahauburn.com
SUMMARY:Annual Christmas Program
DESCRIPTION:
URL:https://mtmoriahauburn.com/event/annual-christmas-program/
LOCATION:Mt. Moriah Missionary Baptist Church\, 2255 Wrights Mill Rd\, Auburn\, AL\, 36830\, United States
END:VEVENT
BEGIN:VEVENT
DTSTART;TZID=UTC:20251214T110000
DTEND;TZID=UTC:20251214T123000
DTSTAMP:20260423T003752
CREATED:20250903T180801Z
LAST-MODIFIED:20250903T180816Z
UID:2252-1765710000-1765715400@mtmoriahauburn.com
SUMMARY:Worship Service
DESCRIPTION:We welcome you to worship with us every Sunday at 11am. Our services are also broadcast on Facebook Live for viewing at any time. \nFB: https://www.facebook.com/people/Mt-Moriah-Missionary-Baptist-Church/100064628984280/
URL:https://mtmoriahauburn.com/event/worship-service-54/
LOCATION:Mt. Moriah Missionary Baptist Church\, 2255 Wrights Mill Rd\, Auburn\, AL\, 36830\, United States
ATTACH;FMTTYPE=image/jpeg:https://mtmoriahauburn.com/wp-content/uploads/2024/11/Sign-Outside-Church.jpg
END:VEVENT
BEGIN:VEVENT
DTSTART;TZID=UTC:20251214T093000
DTEND;TZID=UTC:20251214T103000
DTSTAMP:20260423T003752
CREATED:20250903T183004Z
LAST-MODIFIED:20250903T183004Z
UID:2283-1765704600-1765708200@mtmoriahauburn.com
SUMMARY:Sunday School
DESCRIPTION:In-person weekly Sunday School begins at 9:30am. If you can’t make it in person\, you can join us from home\, via Zoom. Copy the link or use the dial-in number and enter the meeting ID. \n*Join Zoom Meeting\nhttps://us02web.zoom.us/j/85821149959\nMeeting ID: 858 2114 9959 \n*Dial-in number\n312-626-6799\nMeeting ID: 858 2114 9959
URL:https://mtmoriahauburn.com/event/sunday-school-51/
LOCATION:Mt. Moriah Missionary Baptist Church\, 2255 Wrights Mill Rd\, Auburn\, AL\, 36830\, United States
ATTACH;FMTTYPE=image/jpeg:https://mtmoriahauburn.com/wp-content/uploads/2024/11/Sunday-School-image-events.jpg
END:VEVENT
BEGIN:VEVENT
DTSTART;TZID=UTC:20251210T174500
DTEND;TZID=UTC:20251210T184500
DTSTAMP:20260423T003752
CREATED:20250903T184837Z
LAST-MODIFIED:20250903T184837Z
UID:2316-1765388700-1765392300@mtmoriahauburn.com
SUMMARY:Bible Study
DESCRIPTION:Join us for our Bible Study via Zoom. \n*Join Zoom Meeting\nhttps://us02web.zoom.us/j/85821149959 \nMeeting ID: 858 2114 9959
URL:https://mtmoriahauburn.com/event/bible-study-41/
LOCATION:AL
ATTACH;FMTTYPE=image/png:https://mtmoriahauburn.com/wp-content/uploads/2024/11/Bible-Study-Image.png
END:VEVENT
BEGIN:VEVENT
DTSTART;TZID=UTC:20251207T110000
DTEND;TZID=UTC:20251207T123000
DTSTAMP:20260423T003752
CREATED:20250903T180617Z
LAST-MODIFIED:20250903T180617Z
UID:2250-1765105200-1765110600@mtmoriahauburn.com
SUMMARY:Worship Service
DESCRIPTION:We welcome you to worship with us every Sunday at 11am. Our services are also broadcast on Facebook Live for viewing at any time. \nFB: https://www.facebook.com/people/Mt-Moriah-Missionary-Baptist-Church/100064628984280/
URL:https://mtmoriahauburn.com/event/worship-service-53/
LOCATION:Mt. Moriah Missionary Baptist Church\, 2255 Wrights Mill Rd\, Auburn\, AL\, 36830\, United States
ATTACH;FMTTYPE=image/jpeg:https://mtmoriahauburn.com/wp-content/uploads/2024/11/Sign-Outside-Church.jpg
END:VEVENT
BEGIN:VEVENT
DTSTART;TZID=UTC:20251207T093000
DTEND;TZID=UTC:20251207T103000
DTSTAMP:20260423T003752
CREATED:20250903T182934Z
LAST-MODIFIED:20250903T182934Z
UID:2282-1765099800-1765103400@mtmoriahauburn.com
SUMMARY:Sunday School
DESCRIPTION:In-person weekly Sunday School begins at 9:30am. If you can’t make it in person\, you can join us from home\, via Zoom. Copy the link or use the dial-in number and enter the meeting ID. \n*Join Zoom Meeting\nhttps://us02web.zoom.us/j/85821149959\nMeeting ID: 858 2114 9959 \n*Dial-in number\n312-626-6799\nMeeting ID: 858 2114 9959
URL:https://mtmoriahauburn.com/event/sunday-school-50/
LOCATION:AL
ATTACH;FMTTYPE=image/jpeg:https://mtmoriahauburn.com/wp-content/uploads/2024/11/Sunday-School-image-events.jpg
END:VEVENT
BEGIN:VEVENT
DTSTART;TZID=UTC:20251203T174500
DTEND;TZID=UTC:20251203T184500
DTSTAMP:20260423T003752
CREATED:20250903T183558Z
LAST-MODIFIED:20250903T183558Z
UID:2293-1764783900-1764787500@mtmoriahauburn.com
SUMMARY:Prayer Meeting
DESCRIPTION:Join us on the first Wednesday of every month for our prayer meeting via Zoom. \n*Join Zoom Meeting https://us02web.zoom.us/j/85821149959 Meeting ID: 858 2114 9959
URL:https://mtmoriahauburn.com/event/prayer-meeting-11/
LOCATION:AL
END:VEVENT
BEGIN:VEVENT
DTSTART;TZID=UTC:20251130T110000
DTEND;TZID=UTC:20251130T123000
DTSTAMP:20260423T003752
CREATED:20250903T180458Z
LAST-MODIFIED:20250903T180458Z
UID:2248-1764500400-1764505800@mtmoriahauburn.com
SUMMARY:Worship Service
DESCRIPTION:We welcome you to worship with us every Sunday at 11am. Our services are also broadcast on Facebook Live for viewing at any time. \nFB: https://www.facebook.com/people/Mt-Moriah-Missionary-Baptist-Church/100064628984280/
URL:https://mtmoriahauburn.com/event/worship-service-52/
LOCATION:Mt. Moriah Missionary Baptist Church\, 2255 Wrights Mill Rd\, Auburn\, AL\, 36830\, United States
ATTACH;FMTTYPE=image/jpeg:https://mtmoriahauburn.com/wp-content/uploads/2024/11/Sign-Outside-Church.jpg
END:VEVENT
BEGIN:VEVENT
DTSTART;TZID=UTC:20251130T093000
DTEND;TZID=UTC:20251130T103000
DTSTAMP:20260423T003752
CREATED:20250903T182222Z
LAST-MODIFIED:20250903T182222Z
UID:2280-1764495000-1764498600@mtmoriahauburn.com
SUMMARY:Sunday School
DESCRIPTION:In-person weekly Sunday School begins at 9:30am. If you can’t make it in person\, you can join us from home\, via Zoom. Copy the link or use the dial-in number and enter the meeting ID. \n*Join Zoom Meeting\nhttps://us02web.zoom.us/j/85821149959\nMeeting ID: 858 2114 9959 \n*Dial-in number\n312-626-6799\nMeeting ID: 858 2114 9959
URL:https://mtmoriahauburn.com/event/sunday-school-49/
LOCATION:Mt. Moriah Missionary Baptist Church\, 2255 Wrights Mill Rd\, Auburn\, AL\, 36830\, United States
ATTACH;FMTTYPE=image/jpeg:https://mtmoriahauburn.com/wp-content/uploads/2024/11/Sunday-School-image-events.jpg
END:VEVENT
BEGIN:VEVENT
DTSTART;TZID=UTC:20251126T174500
DTEND;TZID=UTC:20251126T184500
DTSTAMP:20260423T003752
CREATED:20250903T184753Z
LAST-MODIFIED:20250903T184753Z
UID:2315-1764179100-1764182700@mtmoriahauburn.com
SUMMARY:Bible Study
DESCRIPTION:Join us for our Bible Study via Zoom. \n*Join Zoom Meeting\nhttps://us02web.zoom.us/j/85821149959 \nMeeting ID: 858 2114 9959
URL:https://mtmoriahauburn.com/event/bible-study-40/
LOCATION:AL
ATTACH;FMTTYPE=image/png:https://mtmoriahauburn.com/wp-content/uploads/2024/11/Bible-Study-Image.png
END:VEVENT
BEGIN:VEVENT
DTSTART;TZID=UTC:20251123T110000
DTEND;TZID=UTC:20251123T123000
DTSTAMP:20260423T003752
CREATED:20250903T180344Z
LAST-MODIFIED:20250903T180344Z
UID:2246-1763895600-1763901000@mtmoriahauburn.com
SUMMARY:Worship Service
DESCRIPTION:We welcome you to worship with us every Sunday at 11am. Our services are also broadcast on Facebook Live for viewing at any time. \nFB: https://www.facebook.com/people/Mt-Moriah-Missionary-Baptist-Church/100064628984280/
URL:https://mtmoriahauburn.com/event/worship-service-51/
LOCATION:Mt. Moriah Missionary Baptist Church\, 2255 Wrights Mill Rd\, Auburn\, AL\, 36830\, United States
ATTACH;FMTTYPE=image/jpeg:https://mtmoriahauburn.com/wp-content/uploads/2024/11/Sign-Outside-Church.jpg
END:VEVENT
BEGIN:VEVENT
DTSTART;TZID=UTC:20251123T093000
DTEND;TZID=UTC:20251123T103000
DTSTAMP:20260423T003752
CREATED:20250903T182120Z
LAST-MODIFIED:20250903T182120Z
UID:2275-1763890200-1763893800@mtmoriahauburn.com
SUMMARY:Sunday School
DESCRIPTION:In-person weekly Sunday School begins at 9:30am. If you can’t make it in person\, you can join us from home\, via Zoom. Copy the link or use the dial-in number and enter the meeting ID. \n*Join Zoom Meeting\nhttps://us02web.zoom.us/j/85821149959\nMeeting ID: 858 2114 9959 \n*Dial-in number\n312-626-6799\nMeeting ID: 858 2114 9959
URL:https://mtmoriahauburn.com/event/sunday-school-48/
LOCATION:Mt. Moriah Missionary Baptist Church\, 2255 Wrights Mill Rd\, Auburn\, AL\, 36830\, United States
ATTACH;FMTTYPE=image/jpeg:https://mtmoriahauburn.com/wp-content/uploads/2024/11/Sunday-School-image-events.jpg
END:VEVENT
BEGIN:VEVENT
DTSTART;TZID=UTC:20251119T174500
DTEND;TZID=UTC:20251119T184500
DTSTAMP:20260423T003752
CREATED:20250903T184719Z
LAST-MODIFIED:20250903T184719Z
UID:2314-1763574300-1763577900@mtmoriahauburn.com
SUMMARY:Bible Study
DESCRIPTION:Join us for our Bible Study via Zoom. \n*Join Zoom Meeting\nhttps://us02web.zoom.us/j/85821149959 \nMeeting ID: 858 2114 9959
URL:https://mtmoriahauburn.com/event/bible-study-39/
LOCATION:AL
ATTACH;FMTTYPE=image/png:https://mtmoriahauburn.com/wp-content/uploads/2024/11/Bible-Study-Image.png
END:VEVENT
BEGIN:VEVENT
DTSTART;TZID=UTC:20251116T110000
DTEND;TZID=UTC:20251116T123000
DTSTAMP:20260423T003752
CREATED:20250903T180229Z
LAST-MODIFIED:20250903T180229Z
UID:2244-1763290800-1763296200@mtmoriahauburn.com
SUMMARY:Worship Service
DESCRIPTION:We welcome you to worship with us every Sunday at 11am. Our services are also broadcast on Facebook Live for viewing at any time. \nFB: https://www.facebook.com/people/Mt-Moriah-Missionary-Baptist-Church/100064628984280/
URL:https://mtmoriahauburn.com/event/worship-service-50/
LOCATION:Mt. Moriah Missionary Baptist Church\, 2255 Wrights Mill Rd\, Auburn\, AL\, 36830\, United States
ATTACH;FMTTYPE=image/jpeg:https://mtmoriahauburn.com/wp-content/uploads/2024/11/Sign-Outside-Church.jpg
END:VEVENT
BEGIN:VEVENT
DTSTART;TZID=UTC:20251116T093000
DTEND;TZID=UTC:20251116T103000
DTSTAMP:20260423T003752
CREATED:20250903T182100Z
LAST-MODIFIED:20250903T182100Z
UID:2274-1763285400-1763289000@mtmoriahauburn.com
SUMMARY:Sunday School
DESCRIPTION:In-person weekly Sunday School begins at 9:30am. If you can’t make it in person\, you can join us from home\, via Zoom. Copy the link or use the dial-in number and enter the meeting ID. \n*Join Zoom Meeting\nhttps://us02web.zoom.us/j/85821149959\nMeeting ID: 858 2114 9959 \n*Dial-in number\n312-626-6799\nMeeting ID: 858 2114 9959
URL:https://mtmoriahauburn.com/event/sunday-school-47/
LOCATION:Mt. Moriah Missionary Baptist Church\, 2255 Wrights Mill Rd\, Auburn\, AL\, 36830\, United States
ATTACH;FMTTYPE=image/jpeg:https://mtmoriahauburn.com/wp-content/uploads/2024/11/Sunday-School-image-events.jpg
END:VEVENT
END:VCALENDAR