BEGIN:VCALENDAR
VERSION:2.0
PRODID:-//Mt. Moriah Missionary Baptist Church - ECPv6.15.17.1//NONSGML v1.0//EN
CALSCALE:GREGORIAN
METHOD:PUBLISH
X-WR-CALNAME:Mt. Moriah Missionary Baptist Church
X-ORIGINAL-URL:https://mtmoriahauburn.com
X-WR-CALDESC:Events for Mt. Moriah Missionary Baptist Church
REFRESH-INTERVAL;VALUE=DURATION:PT1H
X-Robots-Tag:noindex
X-PUBLISHED-TTL:PT1H
BEGIN:VTIMEZONE
TZID:UTC
BEGIN:STANDARD
TZOFFSETFROM:+0000
TZOFFSETTO:+0000
TZNAME:UTC
DTSTART:20240101T000000
END:STANDARD
END:VTIMEZONE
BEGIN:VEVENT
DTSTART;TZID=UTC:20250910T174500
DTEND;TZID=UTC:20250910T184500
DTSTAMP:20260423T214303
CREATED:20250903T183941Z
LAST-MODIFIED:20250903T183941Z
UID:2298-1757526300-1757529900@mtmoriahauburn.com
SUMMARY:Bible Study
DESCRIPTION:Join us for our Bible Study via Zoom. \n*Join Zoom Meeting\nhttps://us02web.zoom.us/j/85821149959 \nMeeting ID: 858 2114 9959
URL:https://mtmoriahauburn.com/event/bible-study-31/
LOCATION:AL
ATTACH;FMTTYPE=image/png:https://mtmoriahauburn.com/wp-content/uploads/2024/11/Bible-Study-Image.png
END:VEVENT
BEGIN:VEVENT
DTSTART;TZID=UTC:20250907T110000
DTEND;TZID=UTC:20250907T123000
DTSTAMP:20260423T214303
CREATED:20250903T175103Z
LAST-MODIFIED:20250903T175224Z
UID:2224-1757242800-1757248200@mtmoriahauburn.com
SUMMARY:Worship Service
DESCRIPTION:We welcome you to worship with us every Sunday at 11am. Our services are also broadcast on Facebook Live for viewing at any time. \nFB: https://www.facebook.com/people/Mt-Moriah-Missionary-Baptist-Church/100064628984280/
URL:https://mtmoriahauburn.com/event/worship-service-40/
LOCATION:Mt. Moriah Missionary Baptist Church\, 2255 Wrights Mill Rd\, Auburn\, AL\, 36830\, United States
ATTACH;FMTTYPE=image/jpeg:https://mtmoriahauburn.com/wp-content/uploads/2024/11/Sign-Outside-Church.jpg
END:VEVENT
BEGIN:VEVENT
DTSTART;TZID=UTC:20250907T093000
DTEND;TZID=UTC:20250907T103000
DTSTAMP:20260423T214303
CREATED:20250903T181437Z
LAST-MODIFIED:20250903T181437Z
UID:2256-1757237400-1757241000@mtmoriahauburn.com
SUMMARY:Sunday School
DESCRIPTION:In-person weekly Sunday School begins at 9:30am. If you can’t make it in person\, you can join us from home\, via Zoom. Copy the link or use the dial-in number and enter the meeting ID. \n*Join Zoom Meeting\nhttps://us02web.zoom.us/j/85821149959\nMeeting ID: 858 2114 9959 \n*Dial-in number\n312-626-6799\nMeeting ID: 858 2114 9959
URL:https://mtmoriahauburn.com/event/sunday-school-40/
LOCATION:Mt. Moriah Missionary Baptist Church\, 2255 Wrights Mill Rd\, Auburn\, AL\, 36830\, United States
ATTACH;FMTTYPE=image/jpeg:https://mtmoriahauburn.com/wp-content/uploads/2024/11/Sunday-School-image-events.jpg
END:VEVENT
BEGIN:VEVENT
DTSTART;TZID=UTC:20250903T174500
DTEND;TZID=UTC:20250903T184500
DTSTAMP:20260423T214303
CREATED:20250903T183358Z
LAST-MODIFIED:20250903T183358Z
UID:2290-1756921500-1756925100@mtmoriahauburn.com
SUMMARY:Prayer Meeting
DESCRIPTION:Join us on the first Wednesday of every month for our prayer meeting via Zoom. \n*Join Zoom Meeting https://us02web.zoom.us/j/85821149959 Meeting ID: 858 2114 9959
URL:https://mtmoriahauburn.com/event/prayer-meeting-8/
LOCATION:AL
END:VEVENT
BEGIN:VEVENT
DTSTART;TZID=UTC:20250831T110000
DTEND;TZID=UTC:20250831T123000
DTSTAMP:20260423T214303
CREATED:20250721T213307Z
LAST-MODIFIED:20250721T213434Z
UID:2197-1756638000-1756643400@mtmoriahauburn.com
SUMMARY:Worship Service
DESCRIPTION:We welcome you to worship with us every Sunday at 11am. Our services are also broadcast on Facebook Live for viewing at any time: https://www.facebook.com/people/Mt-Moriah-Missionary-Baptist-Church/100064628984280/
URL:https://mtmoriahauburn.com/event/worship-service-39/
LOCATION:Mt. Moriah Missionary Baptist Church\, 2255 Wrights Mill Rd\, Auburn\, AL\, 36830\, United States
ATTACH;FMTTYPE=image/jpeg:https://mtmoriahauburn.com/wp-content/uploads/2024/11/Sign-Outside-Church.jpg
END:VEVENT
BEGIN:VEVENT
DTSTART;TZID=UTC:20250831T093000
DTEND;TZID=UTC:20250831T103000
DTSTAMP:20260423T214303
CREATED:20250721T211240Z
LAST-MODIFIED:20250721T211240Z
UID:2184-1756632600-1756636200@mtmoriahauburn.com
SUMMARY:Sunday School
DESCRIPTION:In-person weekly Sunday School begins at 9:30am. If you can’t make it in person\, you can join us from home\, via Zoom. Copy the link or use the dial-in number and enter the meeting ID. \n*Join Zoom Meeting\nhttps://us02web.zoom.us/j/85821149959 \nMeeting ID: 858 2114 9959 \n*Dial-in number\n312-626-6799\nMeeting ID: 858 2114 9959
URL:https://mtmoriahauburn.com/event/sunday-school-36/
LOCATION:Mt. Moriah Missionary Baptist Church\, 2255 Wrights Mill Rd\, Auburn\, AL\, 36830\, United States
ATTACH;FMTTYPE=image/jpeg:https://mtmoriahauburn.com/wp-content/uploads/2024/11/Sunday-School-image-events.jpg
END:VEVENT
BEGIN:VEVENT
DTSTART;TZID=UTC:20250827T174500
DTEND;TZID=UTC:20250827T184500
DTSTAMP:20260423T214303
CREATED:20250721T214412Z
LAST-MODIFIED:20250721T214501Z
UID:2205-1756316700-1756320300@mtmoriahauburn.com
SUMMARY:Bible Study
DESCRIPTION:Join us for our Bible Study via Zoom. \n*Join Zoom Meeting:\nhttps://us02web.zoom.us/j/85821149959\nMeeting ID: 858 2114 9959
URL:https://mtmoriahauburn.com/event/bible-study-30/
LOCATION:AL
ATTACH;FMTTYPE=image/png:https://mtmoriahauburn.com/wp-content/uploads/2024/11/Bible-Study-Image.png
END:VEVENT
BEGIN:VEVENT
DTSTART;TZID=UTC:20250824T110000
DTEND;TZID=UTC:20250824T123000
DTSTAMP:20260423T214303
CREATED:20250721T213026Z
LAST-MODIFIED:20250721T213159Z
UID:2195-1756033200-1756038600@mtmoriahauburn.com
SUMMARY:Worship Service
DESCRIPTION:We welcome you to worship with us every Sunday at 11am. Our services are also broadcast on Facebook Live for viewing at any time: https://www.facebook.com/people/Mt-Moriah-Missionary-Baptist-Church/100064628984280/
URL:https://mtmoriahauburn.com/event/worship-service-38/
LOCATION:Mt. Moriah Missionary Baptist Church\, 2255 Wrights Mill Rd\, Auburn\, AL\, 36830\, United States
ATTACH;FMTTYPE=image/jpeg:https://mtmoriahauburn.com/wp-content/uploads/2024/11/Sign-Outside-Church.jpg
END:VEVENT
BEGIN:VEVENT
DTSTART;TZID=UTC:20250824T093000
DTEND;TZID=UTC:20250824T103000
DTSTAMP:20260423T214303
CREATED:20250721T211107Z
LAST-MODIFIED:20250721T211107Z
UID:2182-1756027800-1756031400@mtmoriahauburn.com
SUMMARY:Sunday School
DESCRIPTION:In-person weekly Sunday School begins at 9:30am. If you can’t make it in person\, you can join us from home\, via Zoom. Copy the link or use the dial-in number and enter the meeting ID. \n*Join Zoom Meeting\nhttps://us02web.zoom.us/j/85821149959 \nMeeting ID: 858 2114 9959 \n*Dial-in number\n312-626-6799\nMeeting ID: 858 2114 9959
URL:https://mtmoriahauburn.com/event/sunday-school-35/
LOCATION:Mt. Moriah Missionary Baptist Church\, 2255 Wrights Mill Rd\, Auburn\, AL\, 36830\, United States
ATTACH;FMTTYPE=image/jpeg:https://mtmoriahauburn.com/wp-content/uploads/2024/11/Sunday-School-image-events.jpg
END:VEVENT
BEGIN:VEVENT
DTSTART;TZID=UTC:20250820T174500
DTEND;TZID=UTC:20250820T184500
DTSTAMP:20260423T214303
CREATED:20250721T214318Z
LAST-MODIFIED:20250721T214318Z
UID:2203-1755711900-1755715500@mtmoriahauburn.com
SUMMARY:Bible Study
DESCRIPTION:Join us for our Bible Study via Zoom. \n*Join Zoom Meeting:\nhttps://us02web.zoom.us/j/85821149959\nMeeting ID: 858 2114 9959
URL:https://mtmoriahauburn.com/event/bible-study-29/
LOCATION:AL
ATTACH;FMTTYPE=image/png:https://mtmoriahauburn.com/wp-content/uploads/2024/11/Bible-Study-Image.png
END:VEVENT
BEGIN:VEVENT
DTSTART;TZID=UTC:20250817T110000
DTEND;TZID=UTC:20250817T123000
DTSTAMP:20260423T214303
CREATED:20250721T212405Z
LAST-MODIFIED:20250721T212405Z
UID:2193-1755428400-1755433800@mtmoriahauburn.com
SUMMARY:Worship Service
DESCRIPTION:We welcome you to worship with us every Sunday at 11am.  \nOur services are also broadcast on Facebook Live for viewing at any time: https://www.facebook.com/people/Mt-Moriah-Missionary-Baptist-Church/100064628984280/
URL:https://mtmoriahauburn.com/event/worship-service-37/
LOCATION:Mt. Moriah Missionary Baptist Church\, 2255 Wrights Mill Rd\, Auburn\, AL\, 36830\, United States
ATTACH;FMTTYPE=image/jpeg:https://mtmoriahauburn.com/wp-content/uploads/2024/11/Sign-Outside-Church.jpg
END:VEVENT
BEGIN:VEVENT
DTSTART;TZID=UTC:20250817T093000
DTEND;TZID=UTC:20250817T103000
DTSTAMP:20260423T214303
CREATED:20250721T211016Z
LAST-MODIFIED:20250721T211016Z
UID:2180-1755423000-1755426600@mtmoriahauburn.com
SUMMARY:Sunday School
DESCRIPTION:In-person weekly Sunday School begins at 9:30am. If you can’t make it in person\, you can join us from home\, via Zoom. Copy the link or use the dial-in number and enter the meeting ID. \n*Join Zoom Meeting\nhttps://us02web.zoom.us/j/85821149959 \nMeeting ID: 858 2114 9959 \n*Dial-in number\n312-626-6799\nMeeting ID: 858 2114 9959
URL:https://mtmoriahauburn.com/event/sunday-school-34/
LOCATION:Mt. Moriah Missionary Baptist Church\, 2255 Wrights Mill Rd\, Auburn\, AL\, 36830\, United States
ATTACH;FMTTYPE=image/jpeg:https://mtmoriahauburn.com/wp-content/uploads/2024/11/Sunday-School-image-events.jpg
END:VEVENT
BEGIN:VEVENT
DTSTART;TZID=UTC:20250813T174500
DTEND;TZID=UTC:20250813T184500
DTSTAMP:20260423T214303
CREATED:20250721T214044Z
LAST-MODIFIED:20250721T214200Z
UID:2201-1755107100-1755110700@mtmoriahauburn.com
SUMMARY:Bible Study
DESCRIPTION:Join us for our Bible Study via Zoom. \n*Join Zoom Meeting:\nhttps://us02web.zoom.us/j/85821149959\nMeeting ID: 858 2114 9959
URL:https://mtmoriahauburn.com/event/bible-study-28/
LOCATION:AL
ATTACH;FMTTYPE=image/png:https://mtmoriahauburn.com/wp-content/uploads/2024/11/Bible-Study-Image.png
END:VEVENT
BEGIN:VEVENT
DTSTART;TZID=UTC:20250810T110000
DTEND;TZID=UTC:20250810T123000
DTSTAMP:20260423T214303
CREATED:20250721T212050Z
LAST-MODIFIED:20250721T212150Z
UID:2191-1754823600-1754829000@mtmoriahauburn.com
SUMMARY:Worship Service
DESCRIPTION:We welcome you to worship with us every Sunday at 11am.  \nOur services are also broadcast on Facebook Live for viewing at any time: https://www.facebook.com/people/Mt-Moriah-Missionary-Baptist-Church/100064628984280/
URL:https://mtmoriahauburn.com/event/worship-service-36/
LOCATION:Mt. Moriah Missionary Baptist Church\, 2255 Wrights Mill Rd\, Auburn\, AL\, 36830\, United States
ATTACH;FMTTYPE=image/jpeg:https://mtmoriahauburn.com/wp-content/uploads/2024/11/Sign-Outside-Church.jpg
END:VEVENT
BEGIN:VEVENT
DTSTART;TZID=UTC:20250810T093000
DTEND;TZID=UTC:20250810T103000
DTSTAMP:20260423T214303
CREATED:20250721T210923Z
LAST-MODIFIED:20250721T210923Z
UID:2178-1754818200-1754821800@mtmoriahauburn.com
SUMMARY:Sunday School
DESCRIPTION:In-person weekly Sunday School begins at 9:30am. If you can’t make it in person\, you can join us from home\, via Zoom. Copy the link or use the dial-in number and enter the meeting ID. \n*Join Zoom Meeting\nhttps://us02web.zoom.us/j/85821149959 \nMeeting ID: 858 2114 9959 \n*Dial-in number\n312-626-6799\nMeeting ID: 858 2114 9959
URL:https://mtmoriahauburn.com/event/sunday-school-33/
LOCATION:Mt. Moriah Missionary Baptist Church\, 2255 Wrights Mill Rd\, Auburn\, AL\, 36830\, United States
ATTACH;FMTTYPE=image/jpeg:https://mtmoriahauburn.com/wp-content/uploads/2024/11/Sunday-School-image-events.jpg
END:VEVENT
BEGIN:VEVENT
DTSTART;TZID=UTC:20250806T174500
DTEND;TZID=UTC:20250806T184500
DTSTAMP:20260423T214303
CREATED:20250721T213847Z
LAST-MODIFIED:20250721T213910Z
UID:2199-1754502300-1754505900@mtmoriahauburn.com
SUMMARY:Prayer Meeting Via Zoom
DESCRIPTION:Join us on the first Wednesday of every month for our prayer meeting via Zoom. \n*Join Zoom Meeting https://us02web.zoom.us/j/85821149959 Meeting ID: 858 2114 9959
URL:https://mtmoriahauburn.com/event/prayer-meeting-via-zoom/
LOCATION:AL
END:VEVENT
BEGIN:VEVENT
DTSTART;TZID=UTC:20250803T110000
DTEND;TZID=UTC:20250803T123000
DTSTAMP:20260423T214303
CREATED:20250721T211501Z
LAST-MODIFIED:20250721T211829Z
UID:2186-1754218800-1754224200@mtmoriahauburn.com
SUMMARY:Worship Service
DESCRIPTION:We welcome you to worship with us every Sunday at 11am.  \nOur services are also broadcast on Facebook Live for viewing at any time: https://www.facebook.com/people/Mt-Moriah-Missionary-Baptist-Church/100064628984280/
URL:https://mtmoriahauburn.com/event/worship-service-35/
LOCATION:Mt. Moriah Missionary Baptist Church\, 2255 Wrights Mill Rd\, Auburn\, AL\, 36830\, United States
ATTACH;FMTTYPE=image/jpeg:https://mtmoriahauburn.com/wp-content/uploads/2024/11/Sign-Outside-Church.jpg
END:VEVENT
BEGIN:VEVENT
DTSTART;TZID=UTC:20250803T093000
DTEND;TZID=UTC:20250803T103000
DTSTAMP:20260423T214303
CREATED:20250721T210802Z
LAST-MODIFIED:20250721T210802Z
UID:2176-1754213400-1754217000@mtmoriahauburn.com
SUMMARY:Sunday School
DESCRIPTION:In-person weekly Sunday School begins at 9:30am. If you can’t make it in person\, you can join us from home\, via Zoom. Copy the link or use the dial-in number and enter the meeting ID. \n*Join Zoom Meeting\nhttps://us02web.zoom.us/j/85821149959 \nMeeting ID: 858 2114 9959 \n*Dial-in number\n312-626-6799\nMeeting ID: 858 2114 9959
URL:https://mtmoriahauburn.com/event/sunday-school-32/
LOCATION:Mt. Moriah Missionary Baptist Church\, 2255 Wrights Mill Rd\, Auburn\, AL\, 36830\, United States
ATTACH;FMTTYPE=image/jpeg:https://mtmoriahauburn.com/wp-content/uploads/2024/11/Sunday-School-image-events.jpg
END:VEVENT
BEGIN:VEVENT
DTSTART;TZID=UTC:20250730T174500
DTEND;TZID=UTC:20250730T184500
DTSTAMP:20260423T214303
CREATED:20250611T014534Z
LAST-MODIFIED:20250611T014654Z
UID:2167-1753897500-1753901100@mtmoriahauburn.com
SUMMARY:Bible Study
DESCRIPTION:Join us for our Bible Study via Zoom.\n*Join Zoom Meeting: https://us02web.zoom.us/j/85821149959\nMeeting ID: 858 2114 9959
URL:https://mtmoriahauburn.com/event/bible-study-27/
LOCATION:AL
ATTACH;FMTTYPE=image/png:https://mtmoriahauburn.com/wp-content/uploads/2024/11/Bible-Study-Image.png
END:VEVENT
BEGIN:VEVENT
DTSTART;TZID=UTC:20250727T110000
DTEND;TZID=UTC:20250727T123000
DTSTAMP:20260423T214303
CREATED:20250611T013810Z
LAST-MODIFIED:20250611T013810Z
UID:2156-1753614000-1753619400@mtmoriahauburn.com
SUMMARY:Worship Service
DESCRIPTION:We welcome you to worship with us every Sunday at 11am. Our services are also broadcast on Facebook Live for viewing at any time.\nFB: https://www.facebook.com/people/Mt-Moriah-Missionary-Baptist-Church/100064628984280/
URL:https://mtmoriahauburn.com/event/worship-service-34/
LOCATION:Mt. Moriah Missionary Baptist Church\, 2255 Wrights Mill Rd\, Auburn\, AL\, 36830\, United States
ATTACH;FMTTYPE=image/jpeg:https://mtmoriahauburn.com/wp-content/uploads/2024/11/Sign-Outside-Church.jpg
END:VEVENT
BEGIN:VEVENT
DTSTART;TZID=UTC:20250727T093000
DTEND;TZID=UTC:20250727T103000
DTSTAMP:20260423T214303
CREATED:20250611T013137Z
LAST-MODIFIED:20250611T013137Z
UID:2148-1753608600-1753612200@mtmoriahauburn.com
SUMMARY:Sunday School
DESCRIPTION:In-person weekly Sunday School begins at 9:30am. If you can’t make it in person\, you can join us from home\, via Zoom. Copy the link or use the dial-in number and enter the meeting ID. \n*Join Zoom Meeting:\nhttps://us02web.zoom.us/j/85821149959\nMeeting ID: 858 2114 9959 \n*Dial-in number:(312) 626-6799\nMeeting ID: 858 2114 9959
URL:https://mtmoriahauburn.com/event/sunday-school-31/
LOCATION:AL
ATTACH;FMTTYPE=image/jpeg:https://mtmoriahauburn.com/wp-content/uploads/2024/11/Sunday-School-image-events.jpg
END:VEVENT
BEGIN:VEVENT
DTSTART;TZID=UTC:20250723T174500
DTEND;TZID=UTC:20250723T184500
DTSTAMP:20260423T214303
CREATED:20250611T014445Z
LAST-MODIFIED:20250611T014445Z
UID:2165-1753292700-1753296300@mtmoriahauburn.com
SUMMARY:Bible Study
DESCRIPTION:Join us for our Bible Study via Zoom.\n*Join Zoom Meeting: https://us02web.zoom.us/j/85821149959\nMeeting ID: 858 2114 9959
URL:https://mtmoriahauburn.com/event/bible-study-26/
LOCATION:AL
ATTACH;FMTTYPE=image/png:https://mtmoriahauburn.com/wp-content/uploads/2024/11/Bible-Study-Image.png
END:VEVENT
BEGIN:VEVENT
DTSTART;TZID=UTC:20250720T110000
DTEND;TZID=UTC:20250720T123000
DTSTAMP:20260423T214303
CREATED:20250611T013658Z
LAST-MODIFIED:20250611T013658Z
UID:2154-1753009200-1753014600@mtmoriahauburn.com
SUMMARY:Worship Service
DESCRIPTION:We welcome you to worship with us every Sunday at 11am. Our services are also broadcast on Facebook Live for viewing at any time.\nFB: https://www.facebook.com/people/Mt-Moriah-Missionary-Baptist-Church/100064628984280/
URL:https://mtmoriahauburn.com/event/worship-service-33/
LOCATION:Mt. Moriah Missionary Baptist Church\, 2255 Wrights Mill Rd\, Auburn\, AL\, 36830\, United States
ATTACH;FMTTYPE=image/jpeg:https://mtmoriahauburn.com/wp-content/uploads/2024/11/Sign-Outside-Church.jpg
END:VEVENT
BEGIN:VEVENT
DTSTART;TZID=UTC:20250720T093000
DTEND;TZID=UTC:20250720T103000
DTSTAMP:20260423T214303
CREATED:20250611T012859Z
LAST-MODIFIED:20250611T012859Z
UID:2146-1753003800-1753007400@mtmoriahauburn.com
SUMMARY:Sunday School
DESCRIPTION:In-person weekly Sunday School begins at 9:30am. If you can’t make it in person\, you can join us from home\, via Zoom. Copy the link or use the dial-in number and enter the meeting ID. \n*Join Zoom Meeting:\nhttps://us02web.zoom.us/j/85821149959\nMeeting ID: 858 2114 9959 \n*Dial-in number:(312) 626-6799\nMeeting ID: 858 2114 9959
URL:https://mtmoriahauburn.com/event/sunday-school-30/
LOCATION:Mt. Moriah Missionary Baptist Church\, 2255 Wrights Mill Rd\, Auburn\, AL\, 36830\, United States
ATTACH;FMTTYPE=image/jpeg:https://mtmoriahauburn.com/wp-content/uploads/2024/11/Sunday-School-image-events.jpg
END:VEVENT
BEGIN:VEVENT
DTSTART;TZID=UTC:20250716T174500
DTEND;TZID=UTC:20250716T184500
DTSTAMP:20260423T214303
CREATED:20250611T014350Z
LAST-MODIFIED:20250611T014350Z
UID:2163-1752687900-1752691500@mtmoriahauburn.com
SUMMARY:Bible Study
DESCRIPTION:Join us for our Bible Study via Zoom.\n*Join Zoom Meeting: https://us02web.zoom.us/j/85821149959\nMeeting ID: 858 2114 9959
URL:https://mtmoriahauburn.com/event/bible-study-25/
LOCATION:AL
ATTACH;FMTTYPE=image/png:https://mtmoriahauburn.com/wp-content/uploads/2024/11/Bible-Study-Image.png
END:VEVENT
BEGIN:VEVENT
DTSTART;TZID=UTC:20250713T110000
DTEND;TZID=UTC:20250713T123000
DTSTAMP:20260423T214303
CREATED:20250611T013456Z
LAST-MODIFIED:20250611T013556Z
UID:2152-1752404400-1752409800@mtmoriahauburn.com
SUMMARY:Worship Service
DESCRIPTION:We welcome you to worship with us every Sunday at 11am. Our services are also broadcast on Facebook Live for viewing at any time.\nFB: https://www.facebook.com/people/Mt-Moriah-Missionary-Baptist-Church/100064628984280/
URL:https://mtmoriahauburn.com/event/worship-service-32/
LOCATION:Mt. Moriah Missionary Baptist Church\, 2255 Wrights Mill Rd\, Auburn\, AL\, 36830\, United States
ATTACH;FMTTYPE=image/jpeg:https://mtmoriahauburn.com/wp-content/uploads/2024/11/Sign-Outside-Church.jpg
END:VEVENT
BEGIN:VEVENT
DTSTART;TZID=UTC:20250713T093000
DTEND;TZID=UTC:20250713T103000
DTSTAMP:20260423T214303
CREATED:20250611T012805Z
LAST-MODIFIED:20250611T012805Z
UID:2144-1752399000-1752402600@mtmoriahauburn.com
SUMMARY:Sunday School
DESCRIPTION:In-person weekly Sunday School begins at 9:30am. If you can’t make it in person\, you can join us from home\, via Zoom. Copy the link or use the dial-in number and enter the meeting ID. \n*Join Zoom Meeting:\nhttps://us02web.zoom.us/j/85821149959\nMeeting ID: 858 2114 9959 \n*Dial-in number:(312) 626-6799\nMeeting ID: 858 2114 9959
URL:https://mtmoriahauburn.com/event/sunday-school-29/
LOCATION:Mt. Moriah Missionary Baptist Church\, 2255 Wrights Mill Rd\, Auburn\, AL\, 36830\, United States
ATTACH;FMTTYPE=image/jpeg:https://mtmoriahauburn.com/wp-content/uploads/2024/11/Sunday-School-image-events.jpg
END:VEVENT
BEGIN:VEVENT
DTSTART;TZID=UTC:20250709T174500
DTEND;TZID=UTC:20250709T184500
DTSTAMP:20260423T214303
CREATED:20250611T014237Z
LAST-MODIFIED:20250611T014237Z
UID:2161-1752083100-1752086700@mtmoriahauburn.com
SUMMARY:Bible Study
DESCRIPTION:Join us for our Bible Study via Zoom.\n*Join Zoom Meeting: https://us02web.zoom.us/j/85821149959\nMeeting ID: 858 2114 9959
URL:https://mtmoriahauburn.com/event/bible-study-24/
LOCATION:AL
ATTACH;FMTTYPE=image/png:https://mtmoriahauburn.com/wp-content/uploads/2024/11/Bible-Study-Image.png
END:VEVENT
BEGIN:VEVENT
DTSTART;TZID=UTC:20250706T110000
DTEND;TZID=UTC:20250706T123000
DTSTAMP:20260423T214303
CREATED:20250611T013328Z
LAST-MODIFIED:20250611T013846Z
UID:2150-1751799600-1751805000@mtmoriahauburn.com
SUMMARY:Worship Service
DESCRIPTION:We welcome you to worship with us every Sunday at 11am. Our services are also broadcast on Facebook Live for viewing at any time.\nFB: https://www.facebook.com/people/Mt-Moriah-Missionary-Baptist-Church/100064628984280/
URL:https://mtmoriahauburn.com/event/worship-service-31/
LOCATION:Mt. Moriah Missionary Baptist Church\, 2255 Wrights Mill Rd\, Auburn\, AL\, 36830\, United States
ATTACH;FMTTYPE=image/jpeg:https://mtmoriahauburn.com/wp-content/uploads/2024/11/Sign-Outside-Church.jpg
END:VEVENT
BEGIN:VEVENT
DTSTART;TZID=UTC:20250706T093000
DTEND;TZID=UTC:20250706T103000
DTSTAMP:20260423T214303
CREATED:20250611T012656Z
LAST-MODIFIED:20250611T012656Z
UID:2142-1751794200-1751797800@mtmoriahauburn.com
SUMMARY:Sunday School
DESCRIPTION:In-person weekly Sunday School begins at 9:30am. If you can’t make it in person\, you can join us from home\, via Zoom. Copy the link or use the dial-in number and enter the meeting ID. \n*Join Zoom Meeting:\nhttps://us02web.zoom.us/j/85821149959\nMeeting ID: 858 2114 9959 \n*Dial-in number:(312) 626-6799\nMeeting ID: 858 2114 9959
URL:https://mtmoriahauburn.com/event/sunday-school-28/
LOCATION:Mt. Moriah Missionary Baptist Church\, 2255 Wrights Mill Rd\, Auburn\, AL\, 36830\, United States
ATTACH;FMTTYPE=image/jpeg:https://mtmoriahauburn.com/wp-content/uploads/2024/11/Sunday-School-image-events.jpg
END:VEVENT
END:VCALENDAR