BEGIN:VCALENDAR
VERSION:2.0
PRODID:-//Mt. Moriah Missionary Baptist Church - ECPv6.15.17.1//NONSGML v1.0//EN
CALSCALE:GREGORIAN
METHOD:PUBLISH
X-WR-CALNAME:Mt. Moriah Missionary Baptist Church
X-ORIGINAL-URL:https://mtmoriahauburn.com
X-WR-CALDESC:Events for Mt. Moriah Missionary Baptist Church
REFRESH-INTERVAL;VALUE=DURATION:PT1H
X-Robots-Tag:noindex
X-PUBLISHED-TTL:PT1H
BEGIN:VTIMEZONE
TZID:UTC
BEGIN:STANDARD
TZOFFSETFROM:+0000
TZOFFSETTO:+0000
TZNAME:UTC
DTSTART:20230101T000000
END:STANDARD
END:VTIMEZONE
BEGIN:VEVENT
DTSTART;TZID=UTC:20250305T174500
DTEND;TZID=UTC:20250305T184500
DTSTAMP:20260424T151609
CREATED:20250304T005704Z
LAST-MODIFIED:20250304T005704Z
UID:1975-1741196700-1741200300@mtmoriahauburn.com
SUMMARY:Bible Study
DESCRIPTION:Join us for our Bible Study via Zoom. \n*Join Zoom Meeting\nhttps://us02web.zoom.us/j/85821149959\nMeeting ID: 858 2114 9959
URL:https://mtmoriahauburn.com/event/bible-study-11/
LOCATION:Mt. Moriah Missionary Baptist Church\, 2255 Wrights Mill Rd\, Auburn\, AL\, 36830\, United States
ATTACH;FMTTYPE=image/png:https://mtmoriahauburn.com/wp-content/uploads/2024/11/Bible-Study-Image.png
END:VEVENT
BEGIN:VEVENT
DTSTART;TZID=UTC:20250226T174500
DTEND;TZID=UTC:20250226T184500
DTSTAMP:20260424T151609
CREATED:20250207T213745Z
LAST-MODIFIED:20250207T213745Z
UID:1942-1740591900-1740595500@mtmoriahauburn.com
SUMMARY:Bible Study
DESCRIPTION:Join us for our Bible Study via Zoom. \n*Join Zoom Meeting\nhttps://us02web.zoom.us/j/85821149959\nMeeting ID: 858 2114 9959
URL:https://mtmoriahauburn.com/event/bible-study-10/
LOCATION:AL
ATTACH;FMTTYPE=image/png:https://mtmoriahauburn.com/wp-content/uploads/2024/11/Bible-Study-Image.png
END:VEVENT
BEGIN:VEVENT
DTSTART;TZID=UTC:20250223T110000
DTEND;TZID=UTC:20250223T123000
DTSTAMP:20260424T151609
CREATED:20250207T213231Z
LAST-MODIFIED:20250207T213231Z
UID:1936-1740308400-1740313800@mtmoriahauburn.com
SUMMARY:Worship Service
DESCRIPTION:We welcome you to worship with us every Sunday at 11am. Our services are also broadcast on Facebook Live for viewing at any time.
URL:https://mtmoriahauburn.com/event/worship-service-14/
LOCATION:Mt. Moriah Missionary Baptist Church\, 2255 Wrights Mill Rd\, Auburn\, AL\, 36830\, United States
END:VEVENT
BEGIN:VEVENT
DTSTART;TZID=UTC:20250223T093000
DTEND;TZID=UTC:20250223T103000
DTSTAMP:20260424T151609
CREATED:20250211T192305Z
LAST-MODIFIED:20250211T192305Z
UID:1946-1740303000-1740306600@mtmoriahauburn.com
SUMMARY:Sunday School
DESCRIPTION:In-person weekly Sunday School begins at 9:30am. If you can’t make it in person\, you can join us from home\, via Zoom. Copy the link or use the dial-in number and enter the meeting ID. \n*Join Zoom Meeting\nhttps://us02web.zoom.us/j/85821149959\nMeeting ID: 858 2114 9959 \n*Dial-in number\n312-626-6799\nMeeting ID: 858 2114 9959
URL:https://mtmoriahauburn.com/event/sunday-school-10/
LOCATION:Mt. Moriah Missionary Baptist Church\, 2255 Wrights Mill Rd\, Auburn\, AL\, 36830\, United States
ATTACH;FMTTYPE=image/jpeg:https://mtmoriahauburn.com/wp-content/uploads/2024/11/Sunday-School-image-events.jpg
END:VEVENT
BEGIN:VEVENT
DTSTART;TZID=UTC:20250219T174500
DTEND;TZID=UTC:20250219T184500
DTSTAMP:20260424T151609
CREATED:20250207T213651Z
LAST-MODIFIED:20250207T213651Z
UID:1940-1739987100-1739990700@mtmoriahauburn.com
SUMMARY:Bible Study
DESCRIPTION:Join us for our Bible Study via Zoom. \n*Join Zoom Meeting\nhttps://us02web.zoom.us/j/85821149959\nMeeting ID: 858 2114 9959
URL:https://mtmoriahauburn.com/event/bible-study-9/
LOCATION:AL
ATTACH;FMTTYPE=image/png:https://mtmoriahauburn.com/wp-content/uploads/2024/11/Bible-Study-Image.png
END:VEVENT
BEGIN:VEVENT
DTSTART;TZID=UTC:20250216T110000
DTEND;TZID=UTC:20250216T123000
DTSTAMP:20260424T151609
CREATED:20250207T213141Z
LAST-MODIFIED:20250207T213141Z
UID:1934-1739703600-1739709000@mtmoriahauburn.com
SUMMARY:Worship Service
DESCRIPTION:We welcome you to worship with us every Sunday at 11am. Our services are also broadcast on Facebook Live for viewing at any time.
URL:https://mtmoriahauburn.com/event/worship-service-13/
LOCATION:Mt. Moriah Missionary Baptist Church\, 2255 Wrights Mill Rd\, Auburn\, AL\, 36830\, United States
END:VEVENT
BEGIN:VEVENT
DTSTART;TZID=UTC:20250216T093000
DTEND;TZID=UTC:20250216T103000
DTSTAMP:20260424T151609
CREATED:20250211T192216Z
LAST-MODIFIED:20250211T192216Z
UID:1944-1739698200-1739701800@mtmoriahauburn.com
SUMMARY:Sunday School
DESCRIPTION:In-person weekly Sunday School begins at 9:30am. If you can’t make it in person\, you can join us from home\, via Zoom. Copy the link or use the dial-in number and enter the meeting ID. \n*Join Zoom Meeting\nhttps://us02web.zoom.us/j/85821149959\nMeeting ID: 858 2114 9959 \n*Dial-in number\n312-626-6799\nMeeting ID: 858 2114 9959
URL:https://mtmoriahauburn.com/event/sunday-school-9/
LOCATION:Mt. Moriah Missionary Baptist Church\, 2255 Wrights Mill Rd\, Auburn\, AL\, 36830\, United States
ATTACH;FMTTYPE=image/jpeg:https://mtmoriahauburn.com/wp-content/uploads/2024/11/Sunday-School-image-events.jpg
END:VEVENT
BEGIN:VEVENT
DTSTART;TZID=UTC:20250212T174500
DTEND;TZID=UTC:20250212T184500
DTSTAMP:20260424T151609
CREATED:20250207T213603Z
LAST-MODIFIED:20250207T213603Z
UID:1938-1739382300-1739385900@mtmoriahauburn.com
SUMMARY:Bible Study
DESCRIPTION:Join us for our Bible Study via Zoom. \n*Join Zoom Meeting\nhttps://us02web.zoom.us/j/85821149959\nMeeting ID: 858 2114 9959
URL:https://mtmoriahauburn.com/event/bible-study-8/
LOCATION:AL
ATTACH;FMTTYPE=image/png:https://mtmoriahauburn.com/wp-content/uploads/2024/11/Bible-Study-Image.png
END:VEVENT
BEGIN:VEVENT
DTSTART;TZID=UTC:20250209T110000
DTEND;TZID=UTC:20250209T123000
DTSTAMP:20260424T151609
CREATED:20250207T213032Z
LAST-MODIFIED:20250207T213032Z
UID:1932-1739098800-1739104200@mtmoriahauburn.com
SUMMARY:Worship Service
DESCRIPTION:We welcome you to worship with us every Sunday at 11am. Our services are also broadcast on Facebook Live for viewing at any time.
URL:https://mtmoriahauburn.com/event/worship-service-12/
LOCATION:Mt. Moriah Missionary Baptist Church\, 2255 Wrights Mill Rd\, Auburn\, AL\, 36830\, United States
END:VEVENT
BEGIN:VEVENT
DTSTART;TZID=UTC:20250129T174500
DTEND;TZID=UTC:20250129T184500
DTSTAMP:20260424T151609
CREATED:20250109T210711Z
LAST-MODIFIED:20250109T210711Z
UID:1924-1738172700-1738176300@mtmoriahauburn.com
SUMMARY:Bible Study
DESCRIPTION:Join us for our Bible Study via Zoom. \n*Join Zoom Meeting\nhttps://us02web.zoom.us/j/85821149959\nMeeting ID: 858 2114 9959
URL:https://mtmoriahauburn.com/event/bible-study-7/
LOCATION:Mt. Moriah Missionary Baptist Church\, 2255 Wrights Mill Rd\, Auburn\, AL\, 36830\, United States
ATTACH;FMTTYPE=image/png:https://mtmoriahauburn.com/wp-content/uploads/2024/11/Bible-Study-Image.png
END:VEVENT
BEGIN:VEVENT
DTSTART;TZID=UTC:20250126T110000
DTEND;TZID=UTC:20250126T123000
DTSTAMP:20260424T151609
CREATED:20250109T205855Z
LAST-MODIFIED:20250109T205941Z
UID:1918-1737889200-1737894600@mtmoriahauburn.com
SUMMARY:Worship Service
DESCRIPTION:We welcome you to worship with us every Sunday at 11am. Our services are also broadcast on Facebook Live for viewing at any time.
URL:https://mtmoriahauburn.com/event/worship-service-11/
LOCATION:Mt. Moriah Missionary Baptist Church\, 2255 Wrights Mill Rd\, Auburn\, AL\, 36830\, United States
END:VEVENT
BEGIN:VEVENT
DTSTART;TZID=UTC:20250122T174500
DTEND;TZID=UTC:20250122T184500
DTSTAMP:20260424T151609
CREATED:20250109T210607Z
LAST-MODIFIED:20250109T210741Z
UID:1922-1737567900-1737571500@mtmoriahauburn.com
SUMMARY:Bible Study
DESCRIPTION:Join us for our Bible Study via Zoom. \n*Join Zoom Meeting\nhttps://us02web.zoom.us/j/85821149959\nMeeting ID: 858 2114 9959
URL:https://mtmoriahauburn.com/event/bible-study-6/
LOCATION:Mt. Moriah Missionary Baptist Church\, 2255 Wrights Mill Rd\, Auburn\, AL\, 36830\, United States
ATTACH;FMTTYPE=image/png:https://mtmoriahauburn.com/wp-content/uploads/2024/11/Bible-Study-Image.png
END:VEVENT
BEGIN:VEVENT
DTSTART;TZID=UTC:20250119T110000
DTEND;TZID=UTC:20250119T123000
DTSTAMP:20260424T151609
CREATED:20250109T205735Z
LAST-MODIFIED:20250109T205735Z
UID:1916-1737284400-1737289800@mtmoriahauburn.com
SUMMARY:Worship Service
DESCRIPTION:We welcome you to worship with us every Sunday at 11am. Our services are also broadcast on Facebook Live for viewing at any time.
URL:https://mtmoriahauburn.com/event/worship-service-10/
LOCATION:Mt. Moriah Missionary Baptist Church\, 2255 Wrights Mill Rd\, Auburn\, AL\, 36830\, United States
ATTACH;FMTTYPE=image/jpeg:https://mtmoriahauburn.com/wp-content/uploads/2024/11/Sign-Outside-Church.jpg
END:VEVENT
BEGIN:VEVENT
DTSTART;TZID=UTC:20250115T174500
DTEND;TZID=UTC:20250115T184500
DTSTAMP:20260424T151609
CREATED:20250109T210457Z
LAST-MODIFIED:20250109T210812Z
UID:1920-1736963100-1736966700@mtmoriahauburn.com
SUMMARY:Bible Study
DESCRIPTION:Join us for our Bible Study via Zoom. \n*Join Zoom Meeting\nhttps://us02web.zoom.us/j/85821149959\nMeeting ID: 858 2114 9959
URL:https://mtmoriahauburn.com/event/bible-study-5/
LOCATION:Mt. Moriah Missionary Baptist Church\, 2255 Wrights Mill Rd\, Auburn\, AL\, 36830\, United States
ATTACH;FMTTYPE=image/png:https://mtmoriahauburn.com/wp-content/uploads/2024/11/Bible-Study-Image.png
END:VEVENT
BEGIN:VEVENT
DTSTART;TZID=UTC:20250112T110000
DTEND;TZID=UTC:20250112T123000
DTSTAMP:20260424T151609
CREATED:20250109T205524Z
LAST-MODIFIED:20250109T205555Z
UID:1914-1736679600-1736685000@mtmoriahauburn.com
SUMMARY:Worship Service
DESCRIPTION:We welcome you to worship with us every Sunday at 11am. Our services are also broadcast on Facebook Live for viewing at any time.
URL:https://mtmoriahauburn.com/event/worship-service-9/
LOCATION:Mt. Moriah Missionary Baptist Church\, 2255 Wrights Mill Rd\, Auburn\, AL\, 36830\, United States
ATTACH;FMTTYPE=image/jpeg:https://mtmoriahauburn.com/wp-content/uploads/2024/11/Sign-Outside-Church.jpg
END:VEVENT
BEGIN:VEVENT
DTSTART;TZID=UTC:20241231T180000
DTEND;TZID=UTC:20241231T193000
DTSTAMP:20260424T151609
CREATED:20241211T233235Z
LAST-MODIFIED:20241211T233235Z
UID:1893-1735668000-1735673400@mtmoriahauburn.com
SUMMARY:Watch Night Service
DESCRIPTION:We welcome you to worship with us as we sing\, pray\, testify and preach about God’s goodness and welcome in a New Year!
URL:https://mtmoriahauburn.com/event/watch-night-service/
LOCATION:Mt. Moriah Missionary Baptist Church\, 2255 Wrights Mill Rd\, Auburn\, AL\, 36830\, United States
CATEGORIES:celebration
END:VEVENT
BEGIN:VEVENT
DTSTART;TZID=UTC:20241229T110000
DTEND;TZID=UTC:20241229T123000
DTSTAMP:20260424T151609
CREATED:20241104T211340Z
LAST-MODIFIED:20241104T211340Z
UID:1845-1735470000-1735475400@mtmoriahauburn.com
SUMMARY:Worship Service
DESCRIPTION:We welcome you to worship with us every Sunday at 11am. Our services are also broadcast on Facebook Live for viewing at any time.
URL:https://mtmoriahauburn.com/event/worship-service-8/
LOCATION:Mt. Moriah Missionary Baptist Church\, 2255 Wrights Mill Rd\, Auburn\, AL\, 36830\, United States
ATTACH;FMTTYPE=image/jpeg:https://mtmoriahauburn.com/wp-content/uploads/2024/11/Sign-Outside-Church.jpg
END:VEVENT
BEGIN:VEVENT
DTSTART;TZID=UTC:20241229T093000
DTEND;TZID=UTC:20241229T103000
DTSTAMP:20260424T151609
CREATED:20241104T203806Z
LAST-MODIFIED:20241104T203806Z
UID:1828-1735464600-1735468200@mtmoriahauburn.com
SUMMARY:Sunday School
DESCRIPTION:In-person weekly Sunday School begins at 9:30am. If you can’t make it in person\, you can join us from home\, via Zoom. Copy the link or use the dial-in number and enter the meeting ID. \n*Join Zoom Meeting\nhttps://us02web.zoom.us/j/85821149959\nMeeting ID: 858 2114 9959 \n*Dial-in number\n312-626-6799\nMeeting ID: 858 2114 9959
URL:https://mtmoriahauburn.com/event/sunday-school-8/
LOCATION:Mt. Moriah Missionary Baptist Church\, 2255 Wrights Mill Rd\, Auburn\, AL\, 36830\, United States
ATTACH;FMTTYPE=image/jpeg:https://mtmoriahauburn.com/wp-content/uploads/2024/11/Sunday-School-image-events.jpg
END:VEVENT
BEGIN:VEVENT
DTSTART;TZID=UTC:20241222T110000
DTEND;TZID=UTC:20241222T123000
DTSTAMP:20260424T151609
CREATED:20241104T211014Z
LAST-MODIFIED:20241104T211103Z
UID:1843-1734865200-1734870600@mtmoriahauburn.com
SUMMARY:Worship Service
DESCRIPTION:We welcome you to worship with us every Sunday at 11am. Our services are also broadcast on Facebook Live for viewing at any time.
URL:https://mtmoriahauburn.com/event/worship-service-7/
LOCATION:Mt. Moriah Missionary Baptist Church\, 2255 Wrights Mill Rd\, Auburn\, AL\, 36830\, United States
ATTACH;FMTTYPE=image/jpeg:https://mtmoriahauburn.com/wp-content/uploads/2024/11/Sign-Outside-Church.jpg
END:VEVENT
BEGIN:VEVENT
DTSTART;TZID=UTC:20241222T093000
DTEND;TZID=UTC:20241222T103000
DTSTAMP:20260424T151609
CREATED:20241104T203717Z
LAST-MODIFIED:20241104T203717Z
UID:1826-1734859800-1734863400@mtmoriahauburn.com
SUMMARY:Sunday School
DESCRIPTION:In-person weekly Sunday School begins at 9:30am. If you can’t make it in person\, you can join us from home\, via Zoom. Copy the link or use the dial-in number and enter the meeting ID. \n*Join Zoom Meeting\nhttps://us02web.zoom.us/j/85821149959\nMeeting ID: 858 2114 9959 \n*Dial-in number\n312-626-6799\nMeeting ID: 858 2114 9959
URL:https://mtmoriahauburn.com/event/sunday-school-7/
LOCATION:Mt. Moriah Missionary Baptist Church\, 2255 Wrights Mill Rd\, Auburn\, AL\, 36830\, United States
ATTACH;FMTTYPE=image/jpeg:https://mtmoriahauburn.com/wp-content/uploads/2024/11/Sunday-School-image-events.jpg
END:VEVENT
BEGIN:VEVENT
DTSTART;TZID=UTC:20241218T174500
DTEND;TZID=UTC:20241218T184500
DTSTAMP:20260424T151609
CREATED:20241104T214754Z
LAST-MODIFIED:20241104T214754Z
UID:1861-1734543900-1734547500@mtmoriahauburn.com
SUMMARY:Bible Study
DESCRIPTION:Join us for our Bible Study via Zoom. \n*Join Zoom Meeting\nhttps://us02web.zoom.us/j/85821149959\nMeeting ID: 858 2114 9959
URL:https://mtmoriahauburn.com/event/bible-study-4/
LOCATION:AL
ATTACH;FMTTYPE=image/png:https://mtmoriahauburn.com/wp-content/uploads/2024/11/Bible-Study-Image.png
ORGANIZER;CN="Mt. Moriah Missionary Baptist Church":MAILTO:mt.moriahmbc@yahoo.com
END:VEVENT
BEGIN:VEVENT
DTSTART;TZID=UTC:20241215T110000
DTEND;TZID=UTC:20241215T123000
DTSTAMP:20260424T151609
CREATED:20241104T210807Z
LAST-MODIFIED:20241104T210854Z
UID:1841-1734260400-1734265800@mtmoriahauburn.com
SUMMARY:Worship Service
DESCRIPTION:We welcome you to worship with us every Sunday at 11am. Our services are also broadcast on Facebook Live for viewing at any time.
URL:https://mtmoriahauburn.com/event/worship-service-6/
LOCATION:Mt. Moriah Missionary Baptist Church\, 2255 Wrights Mill Rd\, Auburn\, AL\, 36830\, United States
ATTACH;FMTTYPE=image/jpeg:https://mtmoriahauburn.com/wp-content/uploads/2024/11/Sign-Outside-Church.jpg
END:VEVENT
BEGIN:VEVENT
DTSTART;TZID=UTC:20241215T093000
DTEND;TZID=UTC:20241215T103000
DTSTAMP:20260424T151609
CREATED:20241104T203616Z
LAST-MODIFIED:20241104T203616Z
UID:1824-1734255000-1734258600@mtmoriahauburn.com
SUMMARY:Sunday School
DESCRIPTION:In-person weekly Sunday School begins at 9:30am. If you can’t make it in person\, you can join us from home\, via Zoom. Copy the link or use the dial-in number and enter the meeting ID. \n*Join Zoom Meeting\nhttps://us02web.zoom.us/j/85821149959\nMeeting ID: 858 2114 9959 \n*Dial-in number\n312-626-6799\nMeeting ID: 858 2114 9959
URL:https://mtmoriahauburn.com/event/sunday-school-6/
LOCATION:Mt. Moriah Missionary Baptist Church\, 2255 Wrights Mill Rd\, Auburn\, AL\, 36830\, United States
ATTACH;FMTTYPE=image/jpeg:https://mtmoriahauburn.com/wp-content/uploads/2024/11/Sunday-School-image-events.jpg
END:VEVENT
BEGIN:VEVENT
DTSTART;TZID=UTC:20241211T174500
DTEND;TZID=UTC:20241211T184500
DTSTAMP:20260424T151609
CREATED:20241104T214651Z
LAST-MODIFIED:20241104T214651Z
UID:1859-1733939100-1733942700@mtmoriahauburn.com
SUMMARY:Bible Study
DESCRIPTION:Join us for our Bible Study via Zoom. \n*Join Zoom Meeting\nhttps://us02web.zoom.us/j/85821149959\nMeeting ID: 858 2114 9959
URL:https://mtmoriahauburn.com/event/bible-study-3/
LOCATION:AL
ATTACH;FMTTYPE=image/png:https://mtmoriahauburn.com/wp-content/uploads/2024/11/Bible-Study-Image.png
ORGANIZER;CN="Mt. Moriah Missionary Baptist Church":MAILTO:mt.moriahmbc@yahoo.com
END:VEVENT
BEGIN:VEVENT
DTSTART;TZID=UTC:20241208T110000
DTEND;TZID=UTC:20241208T123000
DTSTAMP:20260424T151609
CREATED:20241104T210004Z
LAST-MODIFIED:20241104T211746Z
UID:1839-1733655600-1733661000@mtmoriahauburn.com
SUMMARY:Worship Service
DESCRIPTION:We welcome you to worship with us every Sunday at 11am. Our services are also broadcast on Facebook Live for viewing at any time.
URL:https://mtmoriahauburn.com/event/worship-service-5/
LOCATION:Mt. Moriah Missionary Baptist Church\, 2255 Wrights Mill Rd\, Auburn\, AL\, 36830\, United States
ATTACH;FMTTYPE=image/jpeg:https://mtmoriahauburn.com/wp-content/uploads/2024/11/Sign-Outside-Church.jpg
END:VEVENT
BEGIN:VEVENT
DTSTART;TZID=UTC:20241208T093000
DTEND;TZID=UTC:20241208T103000
DTSTAMP:20260424T151609
CREATED:20241104T203500Z
LAST-MODIFIED:20241104T203500Z
UID:1822-1733650200-1733653800@mtmoriahauburn.com
SUMMARY:Sunday School
DESCRIPTION:In-person weekly Sunday School begins at 9:30am. If you can’t make it in person\, you can join us from home\, via Zoom. Copy the link or use the dial-in number and enter the meeting ID. \n*Join Zoom Meeting\nhttps://us02web.zoom.us/j/85821149959\nMeeting ID: 858 2114 9959 \n*Dial-in number\n312-626-6799\nMeeting ID: 858 2114 9959
URL:https://mtmoriahauburn.com/event/sunday-school-5/
LOCATION:Mt. Moriah Missionary Baptist Church\, 2255 Wrights Mill Rd\, Auburn\, AL\, 36830\, United States
ATTACH;FMTTYPE=image/jpeg:https://mtmoriahauburn.com/wp-content/uploads/2024/11/Sunday-School-image-events.jpg
END:VEVENT
BEGIN:VEVENT
DTSTART;TZID=UTC:20241204T174500
DTEND;TZID=UTC:20241204T184500
DTSTAMP:20260424T151609
CREATED:20241104T213720Z
LAST-MODIFIED:20241104T213720Z
UID:1849-1733334300-1733337900@mtmoriahauburn.com
SUMMARY:Prayer Meeting
DESCRIPTION:Join us on the first Wednesday of every month for our prayer meeting via Zoom. *Join Zoom Meeting https://us02web.zoom.us/j/85821149959 Meeting ID: 858 2114 9959
URL:https://mtmoriahauburn.com/event/prayer-meeting-2/
LOCATION:Mt. Moriah Missionary Baptist Church\, 2255 Wrights Mill Rd\, Auburn\, AL\, 36830\, United States
END:VEVENT
BEGIN:VEVENT
DTSTART;TZID=UTC:20241201T110000
DTEND;TZID=UTC:20241201T123000
DTSTAMP:20260424T151609
CREATED:20241104T205837Z
LAST-MODIFIED:20241104T205837Z
UID:1837-1733050800-1733056200@mtmoriahauburn.com
SUMMARY:Worship Service
DESCRIPTION:We welcome you to worship with us every Sunday at 11am. Our services are also broadcast on Facebook Live for viewing at any time.
URL:https://mtmoriahauburn.com/event/worship-service-4/
LOCATION:Mt. Moriah Missionary Baptist Church\, 2255 Wrights Mill Rd\, Auburn\, AL\, 36830\, United States
ATTACH;FMTTYPE=image/jpeg:https://mtmoriahauburn.com/wp-content/uploads/2024/11/Sign-Outside-Church.jpg
END:VEVENT
BEGIN:VEVENT
DTSTART;TZID=UTC:20241201T093000
DTEND;TZID=UTC:20241201T103000
DTSTAMP:20260424T151609
CREATED:20241104T203345Z
LAST-MODIFIED:20241104T203345Z
UID:1820-1733045400-1733049000@mtmoriahauburn.com
SUMMARY:Sunday School
DESCRIPTION:In-person weekly Sunday School begins at 9:30am. If you can’t make it in person\, you can join us from home\, via Zoom. Copy the link or use the dial-in number and enter the meeting ID. \n*Join Zoom Meeting\nhttps://us02web.zoom.us/j/85821149959\nMeeting ID: 858 2114 9959 \n*Dial-in number\n312-626-6799\nMeeting ID: 858 2114 9959
URL:https://mtmoriahauburn.com/event/sunday-school-4/
LOCATION:Mt. Moriah Missionary Baptist Church\, 2255 Wrights Mill Rd\, Auburn\, AL\, 36830\, United States
ATTACH;FMTTYPE=image/jpeg:https://mtmoriahauburn.com/wp-content/uploads/2024/11/Sunday-School-image-events.jpg
END:VEVENT
BEGIN:VEVENT
DTSTART;TZID=UTC:20241124T180000
DTEND;TZID=UTC:20241124T190000
DTSTAMP:20260424T151609
CREATED:20241104T225256Z
LAST-MODIFIED:20241104T232544Z
UID:1863-1732471200-1732474800@mtmoriahauburn.com
SUMMARY:Community Thanksgiving Service
DESCRIPTION:Join us for a wonderful evening of worship!
URL:https://mtmoriahauburn.com/event/community-thanksgiving-service/
LOCATION:First Baptist Church Opelika\, 301 S 8th St\, Opelika\, Opelika\, AL\, 36801\, United States
ATTACH;FMTTYPE=image/jpeg:https://mtmoriahauburn.com/wp-content/uploads/2024/11/Hands-in-praise.jpg
END:VEVENT
END:VCALENDAR