BEGIN:VCALENDAR
VERSION:2.0
PRODID:-//Mt. Moriah Missionary Baptist Church - ECPv6.15.17.1//NONSGML v1.0//EN
CALSCALE:GREGORIAN
METHOD:PUBLISH
X-WR-CALNAME:Mt. Moriah Missionary Baptist Church
X-ORIGINAL-URL:https://mtmoriahauburn.com
X-WR-CALDESC:Events for Mt. Moriah Missionary Baptist Church
REFRESH-INTERVAL;VALUE=DURATION:PT1H
X-Robots-Tag:noindex
X-PUBLISHED-TTL:PT1H
BEGIN:VTIMEZONE
TZID:UTC
BEGIN:STANDARD
TZOFFSETFROM:+0000
TZOFFSETTO:+0000
TZNAME:UTC
DTSTART:20240101T000000
END:STANDARD
END:VTIMEZONE
BEGIN:VEVENT
DTSTART;TZID=UTC:20250612T180000
DTEND;TZID=UTC:20250612T190000
DTSTAMP:20260425T154833
CREATED:20250611T011021Z
LAST-MODIFIED:20250611T011042Z
UID:2133-1749751200-1749754800@mtmoriahauburn.com
SUMMARY:Juneteenth Community Choir Rehearsal
DESCRIPTION:Rehearsal will take place in the sanctuary.
URL:https://mtmoriahauburn.com/event/juneteenth-community-choir-rehearsal/
LOCATION:Mt. Moriah Missionary Baptist Church\, 2255 Wrights Mill Rd\, Auburn\, AL\, 36830\, United States
END:VEVENT
BEGIN:VEVENT
DTSTART;TZID=UTC:20250611T174500
DTEND;TZID=UTC:20250611T184500
DTSTAMP:20260425T154833
CREATED:20250601T161818Z
LAST-MODIFIED:20250601T161818Z
UID:2124-1749663900-1749667500@mtmoriahauburn.com
SUMMARY:Bible Study
DESCRIPTION:Join us for our Bible Study via Zoom. \n*Join Zoom Meeting\nhttps://us02web.zoom.us/j/85821149959\nMeeting ID: 858 2114 9959
URL:https://mtmoriahauburn.com/event/bible-study-21/
LOCATION:AL
ATTACH;FMTTYPE=image/png:https://mtmoriahauburn.com/wp-content/uploads/2024/11/Bible-Study-Image.png
END:VEVENT
BEGIN:VEVENT
DTSTART;TZID=UTC:20250608T110000
DTEND;TZID=UTC:20250608T123000
DTSTAMP:20260425T154833
CREATED:20250601T161224Z
LAST-MODIFIED:20250601T161224Z
UID:2114-1749380400-1749385800@mtmoriahauburn.com
SUMMARY:Worship Service
DESCRIPTION:We welcome you to worship with us every Sunday at 11am. Our services are also broadcast on Facebook Live for viewing at any time. \nFB: https://www.facebook.com/people/Mt-Moriah-Missionary-Baptist-Church/100064628984280/
URL:https://mtmoriahauburn.com/event/worship-service-27/
LOCATION:Mt. Moriah Missionary Baptist Church\, 2255 Wrights Mill Rd\, Auburn\, AL\, 36830\, United States
ATTACH;FMTTYPE=image/jpeg:https://mtmoriahauburn.com/wp-content/uploads/2024/11/Sign-Outside-Church.jpg
END:VEVENT
BEGIN:VEVENT
DTSTART;TZID=UTC:20250608T093000
DTEND;TZID=UTC:20250608T103000
DTSTAMP:20260425T154833
CREATED:20250601T160650Z
LAST-MODIFIED:20250601T160650Z
UID:2104-1749375000-1749378600@mtmoriahauburn.com
SUMMARY:Sunday School
DESCRIPTION:In-person weekly Sunday School begins at 9:30am. If you can’t make it in person\, you can join us from home\, via Zoom. Copy the link or use the dial-in number and enter the meeting ID. \n*Join Zoom Meeting\nhttps://us02web.zoom.us/j/85821149959\nMeeting ID: 858 2114 9959 \n*Dial-in number\n312-626-6799\nMeeting ID: 858 2114 9959
URL:https://mtmoriahauburn.com/event/sunday-school-24/
LOCATION:Mt. Moriah Missionary Baptist Church\, 2255 Wrights Mill Rd\, Auburn\, AL\, 36830\, United States
ATTACH;FMTTYPE=image/jpeg:https://mtmoriahauburn.com/wp-content/uploads/2024/11/Sunday-School-image-events.jpg
END:VEVENT
BEGIN:VEVENT
DTSTART;TZID=UTC:20250604T174500
DTEND;TZID=UTC:20250604T184500
DTSTAMP:20260425T154833
CREATED:20250601T161702Z
LAST-MODIFIED:20250601T161702Z
UID:2122-1749059100-1749062700@mtmoriahauburn.com
SUMMARY:Prayer Meeting
DESCRIPTION:Join us on the first Wednesday of every month for our prayer meeting via Zoom. \n*Join Zoom Meeting https://us02web.zoom.us/j/85821149959 Meeting ID: 858 2114 9959
URL:https://mtmoriahauburn.com/event/prayer-meeting-6/
LOCATION:AL
END:VEVENT
BEGIN:VEVENT
DTSTART;TZID=UTC:20250601T110000
DTEND;TZID=UTC:20250601T123000
DTSTAMP:20260425T154833
CREATED:20250601T161127Z
LAST-MODIFIED:20250601T161127Z
UID:2112-1748775600-1748781000@mtmoriahauburn.com
SUMMARY:Worship Service
DESCRIPTION:We welcome you to worship with us every Sunday at 11am. Our services are also broadcast on Facebook Live for viewing at any time. \nFB: https://www.facebook.com/people/Mt-Moriah-Missionary-Baptist-Church/100064628984280/
URL:https://mtmoriahauburn.com/event/worship-service-26/
LOCATION:Mt. Moriah Missionary Baptist Church\, 2255 Wrights Mill Rd\, Auburn\, AL\, 36830\, United States
ATTACH;FMTTYPE=image/jpeg:https://mtmoriahauburn.com/wp-content/uploads/2024/11/Sign-Outside-Church.jpg
END:VEVENT
BEGIN:VEVENT
DTSTART;TZID=UTC:20250601T093000
DTEND;TZID=UTC:20250601T103000
DTSTAMP:20260425T154833
CREATED:20250601T160555Z
LAST-MODIFIED:20250601T160555Z
UID:2102-1748770200-1748773800@mtmoriahauburn.com
SUMMARY:Sunday School
DESCRIPTION:In-person weekly Sunday School begins at 9:30am. If you can’t make it in person\, you can join us from home\, via Zoom. Copy the link or use the dial-in number and enter the meeting ID. \n*Join Zoom Meeting\nhttps://us02web.zoom.us/j/85821149959\nMeeting ID: 858 2114 9959 \n*Dial-in number\n312-626-6799\nMeeting ID: 858 2114 9959
URL:https://mtmoriahauburn.com/event/sunday-school-23/
LOCATION:Mt. Moriah Missionary Baptist Church\, 2255 Wrights Mill Rd\, Auburn\, AL\, 36830\, United States
ATTACH;FMTTYPE=image/jpeg:https://mtmoriahauburn.com/wp-content/uploads/2024/11/Sunday-School-image-events.jpg
END:VEVENT
BEGIN:VEVENT
DTSTART;TZID=UTC:20250528T174500
DTEND;TZID=UTC:20250528T184500
DTSTAMP:20260425T154833
CREATED:20250501T190307Z
LAST-MODIFIED:20250501T190307Z
UID:2081-1748454300-1748457900@mtmoriahauburn.com
SUMMARY:Bible Study
DESCRIPTION:Join us for our Bible Study via Zoom. \n*Join Zoom Meeting\nhttps://us02web.zoom.us/j/85821149959 \nMeeting ID: 858 2114 9959
URL:https://mtmoriahauburn.com/event/bible-study-20/
LOCATION:AL
ATTACH;FMTTYPE=image/png:https://mtmoriahauburn.com/wp-content/uploads/2024/11/Bible-Study-Image.png
ORGANIZER;CN="Mt. Moriah Missionary Baptist Church":MAILTO:mt.moriahmbc@yahoo.com
END:VEVENT
BEGIN:VEVENT
DTSTART;TZID=UTC:20250525T110000
DTEND;TZID=UTC:20250525T123000
DTSTAMP:20260425T154833
CREATED:20250501T185057Z
LAST-MODIFIED:20250501T185202Z
UID:2072-1748170800-1748176200@mtmoriahauburn.com
SUMMARY:Worship Service
DESCRIPTION:We welcome you to worship with us every Sunday at 11am. Our services are also broadcast on Facebook Live for viewing at any time.
URL:https://mtmoriahauburn.com/event/worship-service-25/
LOCATION:Mt. Moriah Missionary Baptist Church\, 2255 Wrights Mill Rd\, Auburn\, AL\, 36830\, United States
ATTACH;FMTTYPE=image/jpeg:https://mtmoriahauburn.com/wp-content/uploads/2024/11/Sign-Outside-Church.jpg
END:VEVENT
BEGIN:VEVENT
DTSTART;TZID=UTC:20250525T093000
DTEND;TZID=UTC:20250525T103000
DTSTAMP:20260425T154833
CREATED:20250501T184742Z
LAST-MODIFIED:20250501T184742Z
UID:2066-1748165400-1748169000@mtmoriahauburn.com
SUMMARY:Sunday School
DESCRIPTION:In-person weekly Sunday School begins at 9:30am. If you can’t make it in person\, you can join us from home\, via Zoom. Copy the link or use the dial-in number and enter the meeting ID. \n*Join Zoom Meeting\nhttps://us02web.zoom.us/j/85821149959 \nMeeting ID: 858 2114 9959 \n*Dial-in number\n312-626-6799\nMeeting ID: 858 2114 9959
URL:https://mtmoriahauburn.com/event/sunday-school-22/
LOCATION:Mt. Moriah Missionary Baptist Church\, 2255 Wrights Mill Rd\, Auburn\, AL\, 36830\, United States
ATTACH;FMTTYPE=image/jpeg:https://mtmoriahauburn.com/wp-content/uploads/2024/11/Sunday-School-image-events.jpg
END:VEVENT
BEGIN:VEVENT
DTSTART;TZID=UTC:20250521T174500
DTEND;TZID=UTC:20250521T184500
DTSTAMP:20260425T154833
CREATED:20250501T190218Z
LAST-MODIFIED:20250501T190218Z
UID:2079-1747849500-1747853100@mtmoriahauburn.com
SUMMARY:Bible Study
DESCRIPTION:Join us for our Bible Study via Zoom. \n*Join Zoom Meeting\nhttps://us02web.zoom.us/j/85821149959 \nMeeting ID: 858 2114 9959
URL:https://mtmoriahauburn.com/event/bible-study-19/
LOCATION:AL
ATTACH;FMTTYPE=image/png:https://mtmoriahauburn.com/wp-content/uploads/2024/11/Bible-Study-Image.png
ORGANIZER;CN="Mt. Moriah Missionary Baptist Church":MAILTO:mt.moriahmbc@yahoo.com
END:VEVENT
BEGIN:VEVENT
DTSTART;TZID=UTC:20250518T110000
DTEND;TZID=UTC:20250518T123000
DTSTAMP:20260425T154833
CREATED:20250501T184958Z
LAST-MODIFIED:20250501T184958Z
UID:2070-1747566000-1747571400@mtmoriahauburn.com
SUMMARY:Worship Service
DESCRIPTION:We welcome you to worship with us every Sunday at 11am. Our services are also broadcast on Facebook Live for viewing at any time.
URL:https://mtmoriahauburn.com/event/worship-service-24/
LOCATION:AL
ATTACH;FMTTYPE=image/jpeg:https://mtmoriahauburn.com/wp-content/uploads/2024/11/Sign-Outside-Church.jpg
END:VEVENT
BEGIN:VEVENT
DTSTART;TZID=UTC:20250518T093000
DTEND;TZID=UTC:20250518T103000
DTSTAMP:20260425T154833
CREATED:20250501T184656Z
LAST-MODIFIED:20250501T184656Z
UID:2064-1747560600-1747564200@mtmoriahauburn.com
SUMMARY:Sunday School
DESCRIPTION:In-person weekly Sunday School begins at 9:30am. If you can’t make it in person\, you can join us from home\, via Zoom. Copy the link or use the dial-in number and enter the meeting ID. \n*Join Zoom Meeting\nhttps://us02web.zoom.us/j/85821149959 \nMeeting ID: 858 2114 9959 \n*Dial-in number\n312-626-6799\nMeeting ID: 858 2114 9959
URL:https://mtmoriahauburn.com/event/sunday-school-21/
LOCATION:Mt. Moriah Missionary Baptist Church\, 2255 Wrights Mill Rd\, Auburn\, AL\, 36830\, United States
ATTACH;FMTTYPE=image/jpeg:https://mtmoriahauburn.com/wp-content/uploads/2024/11/Sunday-School-image-events.jpg
END:VEVENT
BEGIN:VEVENT
DTSTART;TZID=UTC:20250514T174500
DTEND;TZID=UTC:20250514T184500
DTSTAMP:20260425T154833
CREATED:20250501T185706Z
LAST-MODIFIED:20250501T185706Z
UID:2076-1747244700-1747248300@mtmoriahauburn.com
SUMMARY:Bible Study
DESCRIPTION:Join us for our Bible Study via Zoom. \n*Join Zoom Meeting\nhttps://us02web.zoom.us/j/85821149959 \nMeeting ID: 858 2114 9959
URL:https://mtmoriahauburn.com/event/bible-study-18/
LOCATION:AL
ATTACH;FMTTYPE=image/png:https://mtmoriahauburn.com/wp-content/uploads/2024/11/Bible-Study-Image.png
ORGANIZER;CN="Mt. Moriah Missionary Baptist Church":MAILTO:mt.moriahmbc@yahoo.com
END:VEVENT
BEGIN:VEVENT
DTSTART;TZID=UTC:20250511T110000
DTEND;TZID=UTC:20250511T123000
DTSTAMP:20260425T154833
CREATED:20250501T184905Z
LAST-MODIFIED:20250501T184905Z
UID:2068-1746961200-1746966600@mtmoriahauburn.com
SUMMARY:Worship Service
DESCRIPTION:We welcome you to worship with us every Sunday at 11am. Our services are also broadcast on Facebook Live for viewing at any time.
URL:https://mtmoriahauburn.com/event/worship-service-23/
LOCATION:Mt. Moriah Missionary Baptist Church\, 2255 Wrights Mill Rd\, Auburn\, AL\, 36830\, United States
ATTACH;FMTTYPE=image/jpeg:https://mtmoriahauburn.com/wp-content/uploads/2024/11/Sign-Outside-Church.jpg
END:VEVENT
BEGIN:VEVENT
DTSTART;TZID=UTC:20250511T093000
DTEND;TZID=UTC:20250511T103000
DTSTAMP:20260425T154833
CREATED:20250501T184619Z
LAST-MODIFIED:20250501T184619Z
UID:2062-1746955800-1746959400@mtmoriahauburn.com
SUMMARY:Sunday School
DESCRIPTION:In-person weekly Sunday School begins at 9:30am. If you can’t make it in person\, you can join us from home\, via Zoom. Copy the link or use the dial-in number and enter the meeting ID. \n*Join Zoom Meeting\nhttps://us02web.zoom.us/j/85821149959 \nMeeting ID: 858 2114 9959 \n*Dial-in number\n312-626-6799\nMeeting ID: 858 2114 9959
URL:https://mtmoriahauburn.com/event/sunday-school-20/
LOCATION:Mt. Moriah Missionary Baptist Church\, 2255 Wrights Mill Rd\, Auburn\, AL\, 36830\, United States
ATTACH;FMTTYPE=image/jpeg:https://mtmoriahauburn.com/wp-content/uploads/2024/11/Sunday-School-image-events.jpg
END:VEVENT
BEGIN:VEVENT
DTSTART;TZID=UTC:20250510T110000
DTEND;TZID=UTC:20250510T123000
DTSTAMP:20260425T154833
CREATED:20250505T120512Z
LAST-MODIFIED:20250505T120512Z
UID:2099-1746874800-1746880200@mtmoriahauburn.com
SUMMARY:Mother's Day Brunch
DESCRIPTION:Join us for our annual Mother’s Day Brunch!
URL:https://mtmoriahauburn.com/event/mothers-day-brunch/
LOCATION:Mt. Moriah Missionary Baptist Church\, 2255 Wrights Mill Rd\, Auburn\, AL\, 36830\, United States
END:VEVENT
BEGIN:VEVENT
DTSTART;TZID=UTC:20250507T174500
DTEND;TZID=UTC:20250507T184500
DTSTAMP:20260425T154833
CREATED:20250501T185535Z
LAST-MODIFIED:20250501T185535Z
UID:2074-1746639900-1746643500@mtmoriahauburn.com
SUMMARY:Prayer Meeting
DESCRIPTION:Join us on the first Wednesday of every month for our prayer meeting via Zoom. \n*Join Zoom Meeting https://us02web.zoom.us/j/85821149959 Meeting ID: 858 2114 9959
URL:https://mtmoriahauburn.com/event/prayer-meeting-5/
LOCATION:AL
ORGANIZER;CN="Mt. Moriah Missionary Baptist Church":MAILTO:mt.moriahmbc@yahoo.com
END:VEVENT
BEGIN:VEVENT
DTSTART;TZID=UTC:20250504T110000
DTEND;TZID=UTC:20250504T123000
DTSTAMP:20260425T154833
CREATED:20250501T184213Z
LAST-MODIFIED:20250501T184213Z
UID:2058-1746356400-1746361800@mtmoriahauburn.com
SUMMARY:Worship Service
DESCRIPTION:We welcome you to worship with us every Sunday at 11am. Our services are also broadcast on Facebook Live for viewing at any time.
URL:https://mtmoriahauburn.com/event/worship-service-22/
LOCATION:Mt. Moriah Missionary Baptist Church\, 2255 Wrights Mill Rd\, Auburn\, AL\, 36830\, United States
ATTACH;FMTTYPE=image/jpeg:https://mtmoriahauburn.com/wp-content/uploads/2024/11/Sign-Outside-Church.jpg
END:VEVENT
BEGIN:VEVENT
DTSTART;TZID=UTC:20250504T093000
DTEND;TZID=UTC:20250504T103000
DTSTAMP:20260425T154833
CREATED:20250501T184429Z
LAST-MODIFIED:20250501T184429Z
UID:2060-1746351000-1746354600@mtmoriahauburn.com
SUMMARY:Sunday School
DESCRIPTION:In-person weekly Sunday School begins at 9:30am. If you can’t make it in person\, you can join us from home\, via Zoom. Copy the link or use the dial-in number and enter the meeting ID. \n*Join Zoom Meeting\nhttps://us02web.zoom.us/j/85821149959 \nMeeting ID: 858 2114 9959\n*Dial-in number\n312-626-6799 \nMeeting ID: 858 2114 9959
URL:https://mtmoriahauburn.com/event/sunday-school-19/
LOCATION:AL
ATTACH;FMTTYPE=image/jpeg:https://mtmoriahauburn.com/wp-content/uploads/2024/11/Sunday-School-image-events.jpg
ORGANIZER;CN="Mt. Moriah Missionary Baptist Church":MAILTO:mt.moriahmbc@yahoo.com
END:VEVENT
BEGIN:VEVENT
DTSTART;TZID=UTC:20250430T174500
DTEND;TZID=UTC:20250430T184500
DTSTAMP:20260425T154833
CREATED:20250326T164904Z
LAST-MODIFIED:20250326T164904Z
UID:2036-1746035100-1746038700@mtmoriahauburn.com
SUMMARY:Bible Study
DESCRIPTION:Join us for our Bible Study via Zoom. \n*Join Zoom Meeting\nhttps://us02web.zoom.us/j/85821149959\nMeeting ID: 858 2114 9959
URL:https://mtmoriahauburn.com/event/bible-study-17/
LOCATION:AL
ATTACH;FMTTYPE=image/png:https://mtmoriahauburn.com/wp-content/uploads/2024/11/Bible-Study-Image.png
ORGANIZER;CN="Mt. Moriah Missionary Baptist Church":MAILTO:mt.moriahmbc@yahoo.com
END:VEVENT
BEGIN:VEVENT
DTSTART;TZID=UTC:20250427T110000
DTEND;TZID=UTC:20250427T123000
DTSTAMP:20260425T154833
CREATED:20250326T164102Z
LAST-MODIFIED:20250326T164102Z
UID:2026-1745751600-1745757000@mtmoriahauburn.com
SUMMARY:Worship Service
DESCRIPTION:We welcome you to worship with us every Sunday at 11am. Our services are also broadcast on Facebook Live for viewing at any time.
URL:https://mtmoriahauburn.com/event/worship-service-21/
LOCATION:Mt. Moriah Missionary Baptist Church\, 2255 Wrights Mill Rd\, Auburn\, AL\, 36830\, United States
ATTACH;FMTTYPE=image/jpeg:https://mtmoriahauburn.com/wp-content/uploads/2024/11/Sign-Outside-Church.jpg
END:VEVENT
BEGIN:VEVENT
DTSTART;TZID=UTC:20250427T093000
DTEND;TZID=UTC:20250427T103000
DTSTAMP:20260425T154833
CREATED:20250326T163653Z
LAST-MODIFIED:20250326T163653Z
UID:2018-1745746200-1745749800@mtmoriahauburn.com
SUMMARY:Sunday School
DESCRIPTION:In-person weekly Sunday School begins at 9:30am. If you can’t make it in person\, you can join us from home\, via Zoom. Copy the link or use the dial-in number and enter the meeting ID. \n*Join Zoom Meeting\nhttps://us02web.zoom.us/j/85821149959\nMeeting ID: 858 2114 9959 \n*Dial-in number\n312-626-6799\nMeeting ID: 858 2114 9959
URL:https://mtmoriahauburn.com/event/sunday-school-18/
LOCATION:Mt. Moriah Missionary Baptist Church\, 2255 Wrights Mill Rd\, Auburn\, AL\, 36830\, United States
ATTACH;FMTTYPE=image/jpeg:https://mtmoriahauburn.com/wp-content/uploads/2024/11/Sunday-School-image-events.jpg
END:VEVENT
BEGIN:VEVENT
DTSTART;TZID=UTC:20250423T174500
DTEND;TZID=UTC:20250423T184500
DTSTAMP:20260425T154833
CREATED:20250326T164818Z
LAST-MODIFIED:20250326T164818Z
UID:2034-1745430300-1745433900@mtmoriahauburn.com
SUMMARY:Bible Study
DESCRIPTION:Join us for our Bible Study via Zoom. \n*Join Zoom Meeting\nhttps://us02web.zoom.us/j/85821149959\nMeeting ID: 858 2114 9959
URL:https://mtmoriahauburn.com/event/bible-study-16/
LOCATION:AL
ATTACH;FMTTYPE=image/png:https://mtmoriahauburn.com/wp-content/uploads/2024/11/Bible-Study-Image.png
ORGANIZER;CN="Mt. Moriah Missionary Baptist Church":MAILTO:mt.moriahmbc@yahoo.com
END:VEVENT
BEGIN:VEVENT
DTSTART;TZID=UTC:20250420T110000
DTEND;TZID=UTC:20250420T123000
DTSTAMP:20260425T154833
CREATED:20250326T164011Z
LAST-MODIFIED:20250326T164011Z
UID:2024-1745146800-1745152200@mtmoriahauburn.com
SUMMARY:Worship Service
DESCRIPTION:We welcome you to worship with us every Sunday at 11am. Our services are also broadcast on Facebook Live for viewing at any time.
URL:https://mtmoriahauburn.com/event/worship-service-20/
LOCATION:Mt. Moriah Missionary Baptist Church\, 2255 Wrights Mill Rd\, Auburn\, AL\, 36830\, United States
ATTACH;FMTTYPE=image/jpeg:https://mtmoriahauburn.com/wp-content/uploads/2024/11/Sign-Outside-Church.jpg
END:VEVENT
BEGIN:VEVENT
DTSTART;TZID=UTC:20250420T093000
DTEND;TZID=UTC:20250420T103000
DTSTAMP:20260425T154833
CREATED:20250326T163557Z
LAST-MODIFIED:20250326T163557Z
UID:2016-1745141400-1745145000@mtmoriahauburn.com
SUMMARY:Sunday School
DESCRIPTION:In-person weekly Sunday School begins at 9:30am. If you can’t make it in person\, you can join us from home\, via Zoom. Copy the link or use the dial-in number and enter the meeting ID. \n*Join Zoom Meeting\nhttps://us02web.zoom.us/j/85821149959\nMeeting ID: 858 2114 9959 \n*Dial-in number\n312-626-6799\nMeeting ID: 858 2114 9959
URL:https://mtmoriahauburn.com/event/sunday-school-17/
LOCATION:AL
ATTACH;FMTTYPE=image/jpeg:https://mtmoriahauburn.com/wp-content/uploads/2024/11/Sunday-School-image-events.jpg
END:VEVENT
BEGIN:VEVENT
DTSTART;TZID=UTC:20250416T174500
DTEND;TZID=UTC:20250416T184500
DTSTAMP:20260425T154833
CREATED:20250326T164654Z
LAST-MODIFIED:20250326T164654Z
UID:2032-1744825500-1744829100@mtmoriahauburn.com
SUMMARY:Bible Study
DESCRIPTION:Join us for our Bible Study via Zoom. \n*Join Zoom Meeting\nhttps://us02web.zoom.us/j/85821149959\nMeeting ID: 858 2114 9959
URL:https://mtmoriahauburn.com/event/bible-study-15/
LOCATION:AL
ATTACH;FMTTYPE=image/png:https://mtmoriahauburn.com/wp-content/uploads/2024/11/Bible-Study-Image.png
ORGANIZER;CN="Mt. Moriah Missionary Baptist Church":MAILTO:mt.moriahmbc@yahoo.com
END:VEVENT
BEGIN:VEVENT
DTSTART;TZID=UTC:20250413T110000
DTEND;TZID=UTC:20250413T123000
DTSTAMP:20260425T154833
CREATED:20250326T163924Z
LAST-MODIFIED:20250326T163924Z
UID:2022-1744542000-1744547400@mtmoriahauburn.com
SUMMARY:Worship Service
DESCRIPTION:We welcome you to worship with us every Sunday at 11am. Our services are also broadcast on Facebook Live for viewing at any time.
URL:https://mtmoriahauburn.com/event/worship-service-19/
LOCATION:Mt. Moriah Missionary Baptist Church\, 2255 Wrights Mill Rd\, Auburn\, AL\, 36830\, United States
ATTACH;FMTTYPE=image/jpeg:https://mtmoriahauburn.com/wp-content/uploads/2024/11/Sign-Outside-Church.jpg
END:VEVENT
BEGIN:VEVENT
DTSTART;TZID=UTC:20250413T093000
DTEND;TZID=UTC:20250413T103000
DTSTAMP:20260425T154833
CREATED:20250326T163507Z
LAST-MODIFIED:20250326T163507Z
UID:2014-1744536600-1744540200@mtmoriahauburn.com
SUMMARY:Sunday School
DESCRIPTION:In-person weekly Sunday School begins at 9:30am. If you can’t make it in person\, you can join us from home\, via Zoom. Copy the link or use the dial-in number and enter the meeting ID. \n*Join Zoom Meeting\nhttps://us02web.zoom.us/j/85821149959\nMeeting ID: 858 2114 9959 \n*Dial-in number\n312-626-6799\nMeeting ID: 858 2114 9959
URL:https://mtmoriahauburn.com/event/sunday-school-16/
LOCATION:Mt. Moriah Missionary Baptist Church\, 2255 Wrights Mill Rd\, Auburn\, AL\, 36830\, United States
ATTACH;FMTTYPE=image/jpeg:https://mtmoriahauburn.com/wp-content/uploads/2024/11/Sunday-School-image-events.jpg
END:VEVENT
BEGIN:VEVENT
DTSTART;TZID=UTC:20250409T080000
DTEND;TZID=UTC:20250409T170000
DTSTAMP:20260425T154833
CREATED:20250326T164539Z
LAST-MODIFIED:20250326T164539Z
UID:2030-1744185600-1744218000@mtmoriahauburn.com
SUMMARY:Bible Study
DESCRIPTION:Join us for our Bible Study via Zoom. \n*Join Zoom Meeting\nhttps://us02web.zoom.us/j/85821149959\nMeeting ID: 858 2114 9959
URL:https://mtmoriahauburn.com/event/bible-study-13/
LOCATION:AL
ATTACH;FMTTYPE=image/png:https://mtmoriahauburn.com/wp-content/uploads/2024/11/Bible-Study-Image.png
END:VEVENT
END:VCALENDAR