BEGIN:VCALENDAR
VERSION:2.0
PRODID:-//Mt. Moriah Missionary Baptist Church - ECPv6.15.17.1//NONSGML v1.0//EN
CALSCALE:GREGORIAN
METHOD:PUBLISH
X-WR-CALNAME:Mt. Moriah Missionary Baptist Church
X-ORIGINAL-URL:https://mtmoriahauburn.com
X-WR-CALDESC:Events for Mt. Moriah Missionary Baptist Church
REFRESH-INTERVAL;VALUE=DURATION:PT1H
X-Robots-Tag:noindex
X-PUBLISHED-TTL:PT1H
BEGIN:VTIMEZONE
TZID:UTC
BEGIN:STANDARD
TZOFFSETFROM:+0000
TZOFFSETTO:+0000
TZNAME:UTC
DTSTART:20250101T000000
END:STANDARD
END:VTIMEZONE
BEGIN:VEVENT
DTSTART;TZID=UTC:20260401T174500
DTEND;TZID=UTC:20260401T184500
DTSTAMP:20260422T215046
CREATED:20260210T205955Z
LAST-MODIFIED:20260210T205955Z
UID:2564-1775065500-1775069100@mtmoriahauburn.com
SUMMARY:Prayer Meeting (Via Zoom)
DESCRIPTION:Join us on the first Wednesday of every month for our prayer meeting via Zoom. \n*Join Zoom Meeting:\nhttps://us02web.zoom.us/j/3658351687\nMeeting ID: 365 835 1687
URL:https://mtmoriahauburn.com/event/prayer-meeting-via-zoom-6/
ORGANIZER;CN="Mt. Moriah Missionary Baptist Church":MAILTO:mt.moriahmbc@yahoo.com
END:VEVENT
BEGIN:VEVENT
DTSTART;TZID=UTC:20260405T093000
DTEND;TZID=UTC:20260405T103000
DTSTAMP:20260422T215046
CREATED:20260210T203512Z
LAST-MODIFIED:20260210T203512Z
UID:2522-1775381400-1775385000@mtmoriahauburn.com
SUMMARY:Sunday School
DESCRIPTION:In-person weekly Sunday School begins at 9:30am. If you can’t make it in person\, you can join us from home\, via Zoom. Copy the link or use the dial-in number and enter the meeting ID. \n*Join Zoom Meeting\nhttps://us02web.zoom.us/j/3658351687\nMeeting ID: 365 835 1687 \n*Dial-in number\n646-931-3860 OR 365-835-1687\nMeeting ID: 365 835 1687
URL:https://mtmoriahauburn.com/event/sunday-school-67/
LOCATION:Mt. Moriah Missionary Baptist Church\, 2255 Wrights Mill Rd\, Auburn\, AL\, 36830\, United States
ATTACH;FMTTYPE=image/jpeg:https://mtmoriahauburn.com/wp-content/uploads/2024/11/Sunday-School-image-events.jpg
END:VEVENT
BEGIN:VEVENT
DTSTART;TZID=UTC:20260405T110000
DTEND;TZID=UTC:20260405T123000
DTSTAMP:20260422T215046
CREATED:20260210T204626Z
LAST-MODIFIED:20260210T204626Z
UID:2540-1775386800-1775392200@mtmoriahauburn.com
SUMMARY:Worship Service
DESCRIPTION:We welcome you to worship with us every Sunday at 11am.  \nOur services are also broadcast on Facebook Live for viewing at any time.\nFB: https://www.facebook.com/people/Mt-Moriah-Missionary-Baptist-Church/100064628984280/
URL:https://mtmoriahauburn.com/event/worship-service-69/
LOCATION:Mt. Moriah Missionary Baptist Church\, 2255 Wrights Mill Rd\, Auburn\, AL\, 36830\, United States
ATTACH;FMTTYPE=image/jpeg:https://mtmoriahauburn.com/wp-content/uploads/2024/11/Sign-Outside-Church.jpg
END:VEVENT
BEGIN:VEVENT
DTSTART;TZID=UTC:20260408T174500
DTEND;TZID=UTC:20260408T184500
DTSTAMP:20260422T215046
CREATED:20260210T205453Z
LAST-MODIFIED:20260210T205453Z
UID:2556-1775670300-1775673900@mtmoriahauburn.com
SUMMARY:Bible Study
DESCRIPTION:Join us for our Bible Study in person or via Zoom. \n*Join Zoom Meeting:\nhttps://us02web.zoom.us/j/3658351687\nMeeting ID: 365 835 1687
URL:https://mtmoriahauburn.com/event/bible-study-47/
LOCATION:Mt. Moriah Missionary Baptist Church\, 2255 Wrights Mill Rd\, Auburn\, AL\, 36830\, United States
ATTACH;FMTTYPE=image/png:https://mtmoriahauburn.com/wp-content/uploads/2024/11/Bible-Study-Image.png
END:VEVENT
BEGIN:VEVENT
DTSTART;TZID=UTC:20260412T093000
DTEND;TZID=UTC:20260412T103000
DTSTAMP:20260422T215046
CREATED:20260210T203559Z
LAST-MODIFIED:20260210T203559Z
UID:2524-1775986200-1775989800@mtmoriahauburn.com
SUMMARY:Sunday School
DESCRIPTION:In-person weekly Sunday School begins at 9:30am. If you can’t make it in person\, you can join us from home\, via Zoom. Copy the link or use the dial-in number and enter the meeting ID. \n*Join Zoom Meeting\nhttps://us02web.zoom.us/j/3658351687\nMeeting ID: 365 835 1687 \n*Dial-in number\n646-931-3860 OR 365-835-1687\nMeeting ID: 365 835 1687
URL:https://mtmoriahauburn.com/event/sunday-school-68/
LOCATION:Mt. Moriah Missionary Baptist Church\, 2255 Wrights Mill Rd\, Auburn\, AL\, 36830\, United States
ATTACH;FMTTYPE=image/jpeg:https://mtmoriahauburn.com/wp-content/uploads/2024/11/Sunday-School-image-events.jpg
END:VEVENT
BEGIN:VEVENT
DTSTART;TZID=UTC:20260412T110000
DTEND;TZID=UTC:20260412T123000
DTSTAMP:20260422T215046
CREATED:20260210T204704Z
LAST-MODIFIED:20260210T204704Z
UID:2542-1775991600-1775997000@mtmoriahauburn.com
SUMMARY:Worship Service
DESCRIPTION:We welcome you to worship with us every Sunday at 11am.  \nOur services are also broadcast on Facebook Live for viewing at any time.\nFB: https://www.facebook.com/people/Mt-Moriah-Missionary-Baptist-Church/100064628984280/
URL:https://mtmoriahauburn.com/event/worship-service-70/
LOCATION:Mt. Moriah Missionary Baptist Church\, 2255 Wrights Mill Rd\, Auburn\, AL\, 36830\, United States
ATTACH;FMTTYPE=image/jpeg:https://mtmoriahauburn.com/wp-content/uploads/2024/11/Sign-Outside-Church.jpg
END:VEVENT
BEGIN:VEVENT
DTSTART;TZID=UTC:20260415T174500
DTEND;TZID=UTC:20260415T184500
DTSTAMP:20260422T215046
CREATED:20260210T205544Z
LAST-MODIFIED:20260210T205544Z
UID:2558-1776275100-1776278700@mtmoriahauburn.com
SUMMARY:Bible Study
DESCRIPTION:Join us for our Bible Study in person or via Zoom. \n*Join Zoom Meeting:\nhttps://us02web.zoom.us/j/3658351687\nMeeting ID: 365 835 1687
URL:https://mtmoriahauburn.com/event/bible-study-48/
LOCATION:Mt. Moriah Missionary Baptist Church\, 2255 Wrights Mill Rd\, Auburn\, AL\, 36830\, United States
ATTACH;FMTTYPE=image/png:https://mtmoriahauburn.com/wp-content/uploads/2024/11/Bible-Study-Image.png
END:VEVENT
BEGIN:VEVENT
DTSTART;TZID=UTC:20260419T093000
DTEND;TZID=UTC:20260419T103000
DTSTAMP:20260422T215046
CREATED:20260210T203646Z
LAST-MODIFIED:20260210T203646Z
UID:2526-1776591000-1776594600@mtmoriahauburn.com
SUMMARY:Sunday School
DESCRIPTION:In-person weekly Sunday School begins at 9:30am. If you can’t make it in person\, you can join us from home\, via Zoom. Copy the link or use the dial-in number and enter the meeting ID. \n*Join Zoom Meeting\nhttps://us02web.zoom.us/j/3658351687\nMeeting ID: 365 835 1687 \n*Dial-in number\n646-931-3860 OR 365-835-1687\nMeeting ID: 365 835 1687
URL:https://mtmoriahauburn.com/event/sunday-school-69/
LOCATION:Mt. Moriah Missionary Baptist Church\, 2255 Wrights Mill Rd\, Auburn\, AL\, 36830\, United States
ATTACH;FMTTYPE=image/jpeg:https://mtmoriahauburn.com/wp-content/uploads/2024/11/Sunday-School-image-events.jpg
END:VEVENT
BEGIN:VEVENT
DTSTART;TZID=UTC:20260419T110000
DTEND;TZID=UTC:20260419T123000
DTSTAMP:20260422T215046
CREATED:20260210T204821Z
LAST-MODIFIED:20260210T204821Z
UID:2544-1776596400-1776601800@mtmoriahauburn.com
SUMMARY:Worship Service
DESCRIPTION:We welcome you to worship with us every Sunday at 11am.  \nOur services are also broadcast on Facebook Live for viewing at any time.\nFB: https://www.facebook.com/people/Mt-Moriah-Missionary-Baptist-Church/100064628984280/
URL:https://mtmoriahauburn.com/event/worship-service-71/
LOCATION:Mt. Moriah Missionary Baptist Church\, 2255 Wrights Mill Rd\, Auburn\, AL\, 36830\, United States
ATTACH;FMTTYPE=image/jpeg:https://mtmoriahauburn.com/wp-content/uploads/2024/11/Sign-Outside-Church.jpg
END:VEVENT
BEGIN:VEVENT
DTSTART;TZID=UTC:20260422T174500
DTEND;TZID=UTC:20260422T184500
DTSTAMP:20260422T215046
CREATED:20260210T205654Z
LAST-MODIFIED:20260210T205654Z
UID:2560-1776879900-1776883500@mtmoriahauburn.com
SUMMARY:Bible Study
DESCRIPTION:Join us for our Bible Study in person or via Zoom. \n*Join Zoom Meeting:\nhttps://us02web.zoom.us/j/3658351687\nMeeting ID: 365 835 1687
URL:https://mtmoriahauburn.com/event/bible-study-49/
ATTACH;FMTTYPE=image/png:https://mtmoriahauburn.com/wp-content/uploads/2024/11/Bible-Study-Image.png
END:VEVENT
BEGIN:VEVENT
DTSTART;TZID=UTC:20260426T093000
DTEND;TZID=UTC:20260426T103000
DTSTAMP:20260422T215046
CREATED:20260210T203727Z
LAST-MODIFIED:20260210T203727Z
UID:2528-1777195800-1777199400@mtmoriahauburn.com
SUMMARY:Sunday School
DESCRIPTION:In-person weekly Sunday School begins at 9:30am. If you can’t make it in person\, you can join us from home\, via Zoom. Copy the link or use the dial-in number and enter the meeting ID. \n*Join Zoom Meeting\nhttps://us02web.zoom.us/j/3658351687\nMeeting ID: 365 835 1687 \n*Dial-in number\n646-931-3860 OR 365-835-1687\nMeeting ID: 365 835 1687
URL:https://mtmoriahauburn.com/event/sunday-school-70/
LOCATION:Mt. Moriah Missionary Baptist Church\, 2255 Wrights Mill Rd\, Auburn\, AL\, 36830\, United States
ATTACH;FMTTYPE=image/jpeg:https://mtmoriahauburn.com/wp-content/uploads/2024/11/Sunday-School-image-events.jpg
END:VEVENT
BEGIN:VEVENT
DTSTART;TZID=UTC:20260426T110000
DTEND;TZID=UTC:20260426T123000
DTSTAMP:20260422T215046
CREATED:20260210T204902Z
LAST-MODIFIED:20260210T204902Z
UID:2546-1777201200-1777206600@mtmoriahauburn.com
SUMMARY:Worship Service
DESCRIPTION:We welcome you to worship with us every Sunday at 11am.  \nOur services are also broadcast on Facebook Live for viewing at any time.\nFB: https://www.facebook.com/people/Mt-Moriah-Missionary-Baptist-Church/100064628984280/
URL:https://mtmoriahauburn.com/event/worship-service-72/
LOCATION:Mt. Moriah Missionary Baptist Church\, 2255 Wrights Mill Rd\, Auburn\, AL\, 36830\, United States
ATTACH;FMTTYPE=image/jpeg:https://mtmoriahauburn.com/wp-content/uploads/2024/11/Sign-Outside-Church.jpg
END:VEVENT
BEGIN:VEVENT
DTSTART;TZID=UTC:20260429T174500
DTEND;TZID=UTC:20260429T184500
DTSTAMP:20260422T215046
CREATED:20260210T205813Z
LAST-MODIFIED:20260210T205813Z
UID:2562-1777484700-1777488300@mtmoriahauburn.com
SUMMARY:Bible Study
DESCRIPTION:Join us for our Bible Study in person or via Zoom. \n*Join Zoom Meeting:\nhttps://us02web.zoom.us/j/3658351687\nMeeting ID: 365 835 1687
URL:https://mtmoriahauburn.com/event/bible-study-50/
LOCATION:Mt. Moriah Missionary Baptist Church\, 2255 Wrights Mill Rd\, Auburn\, AL\, 36830\, United States
ATTACH;FMTTYPE=image/png:https://mtmoriahauburn.com/wp-content/uploads/2024/11/Bible-Study-Image.png
END:VEVENT
BEGIN:VEVENT
DTSTART;TZID=UTC:20260503T093000
DTEND;TZID=UTC:20260503T103000
DTSTAMP:20260422T215046
CREATED:20260210T203919Z
LAST-MODIFIED:20260210T203919Z
UID:2530-1777800600-1777804200@mtmoriahauburn.com
SUMMARY:Sunday School
DESCRIPTION:In-person weekly Sunday School begins at 9:30am. If you can’t make it in person\, you can join us from home\, via Zoom. Copy the link or use the dial-in number and enter the meeting ID. \n*Join Zoom Meeting\nhttps://us02web.zoom.us/j/3658351687\nMeeting ID: 365 835 1687 \n*Dial-in number\n646-931-3860 OR 365-835-1687\nMeeting ID: 365 835 1687
URL:https://mtmoriahauburn.com/event/sunday-school-71/
LOCATION:Mt. Moriah Missionary Baptist Church\, 2255 Wrights Mill Rd\, Auburn\, AL\, 36830\, United States
ATTACH;FMTTYPE=image/jpeg:https://mtmoriahauburn.com/wp-content/uploads/2024/11/Sunday-School-image-events.jpg
END:VEVENT
BEGIN:VEVENT
DTSTART;TZID=UTC:20260503T110000
DTEND;TZID=UTC:20260503T123000
DTSTAMP:20260422T215046
CREATED:20260210T204946Z
LAST-MODIFIED:20260210T204946Z
UID:2548-1777806000-1777811400@mtmoriahauburn.com
SUMMARY:Worship Service
DESCRIPTION:We welcome you to worship with us every Sunday at 11am.  \nOur services are also broadcast on Facebook Live for viewing at any time.\nFB: https://www.facebook.com/people/Mt-Moriah-Missionary-Baptist-Church/100064628984280/
URL:https://mtmoriahauburn.com/event/worship-service-73/
LOCATION:Mt. Moriah Missionary Baptist Church\, 2255 Wrights Mill Rd\, Auburn\, AL\, 36830\, United States
ATTACH;FMTTYPE=image/jpeg:https://mtmoriahauburn.com/wp-content/uploads/2024/11/Sign-Outside-Church.jpg
END:VEVENT
BEGIN:VEVENT
DTSTART;TZID=UTC:20260506T174500
DTEND;TZID=UTC:20260506T184500
DTSTAMP:20260422T215046
CREATED:20260210T210047Z
LAST-MODIFIED:20260210T210047Z
UID:2566-1778089500-1778093100@mtmoriahauburn.com
SUMMARY:Prayer Meeting (Via Zoom)
DESCRIPTION:Join us on the first Wednesday of every month for our prayer meeting via Zoom. \n*Join Zoom Meeting:\nhttps://us02web.zoom.us/j/3658351687\nMeeting ID: 365 835 1687
URL:https://mtmoriahauburn.com/event/prayer-meeting-via-zoom-7/
ORGANIZER;CN="Mt. Moriah Missionary Baptist Church":MAILTO:mt.moriahmbc@yahoo.com
END:VEVENT
END:VCALENDAR