BEGIN:VCALENDAR
VERSION:2.0
PRODID:-//Mt. Moriah Missionary Baptist Church - ECPv6.15.17.1//NONSGML v1.0//EN
CALSCALE:GREGORIAN
METHOD:PUBLISH
X-WR-CALNAME:Mt. Moriah Missionary Baptist Church
X-ORIGINAL-URL:https://mtmoriahauburn.com
X-WR-CALDESC:Events for Mt. Moriah Missionary Baptist Church
REFRESH-INTERVAL;VALUE=DURATION:PT1H
X-Robots-Tag:noindex
X-PUBLISHED-TTL:PT1H
BEGIN:VTIMEZONE
TZID:UTC
BEGIN:STANDARD
TZOFFSETFROM:+0000
TZOFFSETTO:+0000
TZNAME:UTC
DTSTART:20250101T000000
END:STANDARD
END:VTIMEZONE
BEGIN:VEVENT
DTSTART;TZID=UTC:20260401T174500
DTEND;TZID=UTC:20260401T184500
DTSTAMP:20260422T220120
CREATED:20260210T205955Z
LAST-MODIFIED:20260210T205955Z
UID:2564-1775065500-1775069100@mtmoriahauburn.com
SUMMARY:Prayer Meeting (Via Zoom)
DESCRIPTION:Join us on the first Wednesday of every month for our prayer meeting via Zoom. \n*Join Zoom Meeting:\nhttps://us02web.zoom.us/j/3658351687\nMeeting ID: 365 835 1687
URL:https://mtmoriahauburn.com/event/prayer-meeting-via-zoom-6/
ORGANIZER;CN="Mt. Moriah Missionary Baptist Church":MAILTO:mt.moriahmbc@yahoo.com
END:VEVENT
BEGIN:VEVENT
DTSTART;TZID=UTC:20260329T110000
DTEND;TZID=UTC:20260329T123000
DTSTAMP:20260422T220120
CREATED:20260210T204537Z
LAST-MODIFIED:20260210T204537Z
UID:2538-1774782000-1774787400@mtmoriahauburn.com
SUMMARY:Worship Service
DESCRIPTION:We welcome you to worship with us every Sunday at 11am.  \nOur services are also broadcast on Facebook Live for viewing at any time.\nFB: https://www.facebook.com/people/Mt-Moriah-Missionary-Baptist-Church/100064628984280/
URL:https://mtmoriahauburn.com/event/worship-service-68/
LOCATION:Mt. Moriah Missionary Baptist Church\, 2255 Wrights Mill Rd\, Auburn\, AL\, 36830\, United States
ATTACH;FMTTYPE=image/jpeg:https://mtmoriahauburn.com/wp-content/uploads/2024/11/Sign-Outside-Church.jpg
END:VEVENT
BEGIN:VEVENT
DTSTART;TZID=UTC:20260329T093000
DTEND;TZID=UTC:20260329T103000
DTSTAMP:20260422T220120
CREATED:20260210T203419Z
LAST-MODIFIED:20260210T203419Z
UID:2520-1774776600-1774780200@mtmoriahauburn.com
SUMMARY:Sunday School
DESCRIPTION:In-person weekly Sunday School begins at 9:30am. If you can’t make it in person\, you can join us from home\, via Zoom. Copy the link or use the dial-in number and enter the meeting ID. \n*Join Zoom Meeting\nhttps://us02web.zoom.us/j/3658351687\nMeeting ID: 365 835 1687 \n*Dial-in number\n646-931-3860 OR 365-835-1687\nMeeting ID: 365 835 1687
URL:https://mtmoriahauburn.com/event/sunday-school-66/
LOCATION:Mt. Moriah Missionary Baptist Church\, 2255 Wrights Mill Rd\, Auburn\, AL\, 36830\, United States
ATTACH;FMTTYPE=image/jpeg:https://mtmoriahauburn.com/wp-content/uploads/2024/11/Sunday-School-image-events.jpg
END:VEVENT
BEGIN:VEVENT
DTSTART;TZID=UTC:20260325T174500
DTEND;TZID=UTC:20260325T184500
DTSTAMP:20260422T220120
CREATED:20260210T205337Z
LAST-MODIFIED:20260210T205337Z
UID:2554-1774460700-1774464300@mtmoriahauburn.com
SUMMARY:Bible Study
DESCRIPTION:Join us for our Bible Study in person or via Zoom. \n*Join Zoom Meeting:\nhttps://us02web.zoom.us/j/3658351687\nMeeting ID: 365 835 1687
URL:https://mtmoriahauburn.com/event/bible-study-46/
LOCATION:Mt. Moriah Missionary Baptist Church\, 2255 Wrights Mill Rd\, Auburn\, AL\, 36830\, United States
ATTACH;FMTTYPE=image/png:https://mtmoriahauburn.com/wp-content/uploads/2024/11/Bible-Study-Image.png
END:VEVENT
BEGIN:VEVENT
DTSTART;TZID=UTC:20260322T110000
DTEND;TZID=UTC:20260322T123000
DTSTAMP:20260422T220120
CREATED:20260210T204410Z
LAST-MODIFIED:20260210T204410Z
UID:2536-1774177200-1774182600@mtmoriahauburn.com
SUMMARY:Worship Service
DESCRIPTION:We welcome you to worship with us every Sunday at 11am.  \nOur services are also broadcast on Facebook Live for viewing at any time.\nFB: https://www.facebook.com/people/Mt-Moriah-Missionary-Baptist-Church/100064628984280/
URL:https://mtmoriahauburn.com/event/worship-service-67/
LOCATION:Mt. Moriah Missionary Baptist Church\, 2255 Wrights Mill Rd\, Auburn\, AL\, 36830\, United States
ATTACH;FMTTYPE=image/jpeg:https://mtmoriahauburn.com/wp-content/uploads/2024/11/Sign-Outside-Church.jpg
END:VEVENT
BEGIN:VEVENT
DTSTART;TZID=UTC:20260322T093000
DTEND;TZID=UTC:20260322T103000
DTSTAMP:20260422T220120
CREATED:20260210T203330Z
LAST-MODIFIED:20260210T203330Z
UID:2518-1774171800-1774175400@mtmoriahauburn.com
SUMMARY:Sunday School
DESCRIPTION:In-person weekly Sunday School begins at 9:30am. If you can’t make it in person\, you can join us from home\, via Zoom. Copy the link or use the dial-in number and enter the meeting ID. \n*Join Zoom Meeting\nhttps://us02web.zoom.us/j/3658351687\nMeeting ID: 365 835 1687 \n*Dial-in number\n646-931-3860 OR 365-835-1687\nMeeting ID: 365 835 1687
URL:https://mtmoriahauburn.com/event/sunday-school-65/
LOCATION:Mt. Moriah Missionary Baptist Church\, 2255 Wrights Mill Rd\, Auburn\, AL\, 36830\, United States
ATTACH;FMTTYPE=image/jpeg:https://mtmoriahauburn.com/wp-content/uploads/2024/11/Sunday-School-image-events.jpg
END:VEVENT
BEGIN:VEVENT
DTSTART;TZID=UTC:20260318T174500
DTEND;TZID=UTC:20260318T184500
DTSTAMP:20260422T220120
CREATED:20260210T205234Z
LAST-MODIFIED:20260210T205234Z
UID:2552-1773855900-1773859500@mtmoriahauburn.com
SUMMARY:Bible Study
DESCRIPTION:Join us for our Bible Study in person or via Zoom. \n*Join Zoom Meeting:\nhttps://us02web.zoom.us/j/3658351687\nMeeting ID: 365 835 1687
URL:https://mtmoriahauburn.com/event/bible-study-45/
LOCATION:Mt. Moriah Missionary Baptist Church\, 2255 Wrights Mill Rd\, Auburn\, AL\, 36830\, United States
ATTACH;FMTTYPE=image/png:https://mtmoriahauburn.com/wp-content/uploads/2024/11/Bible-Study-Image.png
END:VEVENT
BEGIN:VEVENT
DTSTART;TZID=UTC:20260315T110000
DTEND;TZID=UTC:20260315T123000
DTSTAMP:20260422T220120
CREATED:20260210T204301Z
LAST-MODIFIED:20260210T204301Z
UID:2534-1773572400-1773577800@mtmoriahauburn.com
SUMMARY:Worship Service
DESCRIPTION:We welcome you to worship with us every Sunday at 11am.  \nOur services are also broadcast on Facebook Live for viewing at any time.\nFB: https://www.facebook.com/people/Mt-Moriah-Missionary-Baptist-Church/100064628984280/
URL:https://mtmoriahauburn.com/event/worship-service-66/
LOCATION:Mt. Moriah Missionary Baptist Church\, 2255 Wrights Mill Rd\, Auburn\, AL\, 36830\, United States
ATTACH;FMTTYPE=image/jpeg:https://mtmoriahauburn.com/wp-content/uploads/2024/11/Sign-Outside-Church.jpg
END:VEVENT
BEGIN:VEVENT
DTSTART;TZID=UTC:20260315T093000
DTEND;TZID=UTC:20260315T103000
DTSTAMP:20260422T220120
CREATED:20260210T203237Z
LAST-MODIFIED:20260210T203237Z
UID:2516-1773567000-1773570600@mtmoriahauburn.com
SUMMARY:Sunday School
DESCRIPTION:In-person weekly Sunday School begins at 9:30am. If you can’t make it in person\, you can join us from home\, via Zoom. Copy the link or use the dial-in number and enter the meeting ID. \n*Join Zoom Meeting\nhttps://us02web.zoom.us/j/3658351687\nMeeting ID: 365 835 1687 \n*Dial-in number\n646-931-3860 OR 365-835-1687\nMeeting ID: 365 835 1687
URL:https://mtmoriahauburn.com/event/sunday-school-64/
LOCATION:Mt. Moriah Missionary Baptist Church\, 2255 Wrights Mill Rd\, Auburn\, AL\, 36830\, United States
ATTACH;FMTTYPE=image/jpeg:https://mtmoriahauburn.com/wp-content/uploads/2024/11/Sunday-School-image-events.jpg
END:VEVENT
BEGIN:VEVENT
DTSTART;TZID=UTC:20260311T174500
DTEND;TZID=UTC:20260311T184500
DTSTAMP:20260422T220120
CREATED:20260210T205145Z
LAST-MODIFIED:20260210T205145Z
UID:2550-1773251100-1773254700@mtmoriahauburn.com
SUMMARY:Bible Study
DESCRIPTION:Join us for our Bible Study in person or via Zoom. \n*Join Zoom Meeting:\nhttps://us02web.zoom.us/j/3658351687\nMeeting ID: 365 835 1687
URL:https://mtmoriahauburn.com/event/bible-study-44/
LOCATION:Mt. Moriah Missionary Baptist Church\, 2255 Wrights Mill Rd\, Auburn\, AL\, 36830\, United States
ATTACH;FMTTYPE=image/png:https://mtmoriahauburn.com/wp-content/uploads/2024/11/Bible-Study-Image.png
END:VEVENT
BEGIN:VEVENT
DTSTART;TZID=UTC:20260308T110000
DTEND;TZID=UTC:20260308T123000
DTSTAMP:20260422T220120
CREATED:20260210T204155Z
LAST-MODIFIED:20260210T204155Z
UID:2532-1772967600-1772973000@mtmoriahauburn.com
SUMMARY:Worship Service
DESCRIPTION:We welcome you to worship with us every Sunday at 11am.  \nOur services are also broadcast on Facebook Live for viewing at any time.\nFB: https://www.facebook.com/people/Mt-Moriah-Missionary-Baptist-Church/100064628984280/
URL:https://mtmoriahauburn.com/event/worship-service-65/
LOCATION:Mt. Moriah Missionary Baptist Church\, 2255 Wrights Mill Rd\, Auburn\, AL\, 36830\, United States
ATTACH;FMTTYPE=image/jpeg:https://mtmoriahauburn.com/wp-content/uploads/2024/11/Sign-Outside-Church.jpg
END:VEVENT
BEGIN:VEVENT
DTSTART;TZID=UTC:20260308T093000
DTEND;TZID=UTC:20260308T103000
DTSTAMP:20260422T220120
CREATED:20260210T203128Z
LAST-MODIFIED:20260210T203128Z
UID:2514-1772962200-1772965800@mtmoriahauburn.com
SUMMARY:Sunday School
DESCRIPTION:In-person weekly Sunday School begins at 9:30am. If you can’t make it in person\, you can join us from home\, via Zoom. Copy the link or use the dial-in number and enter the meeting ID. \n*Join Zoom Meeting\nhttps://us02web.zoom.us/j/3658351687\nMeeting ID: 365 835 1687 \n*Dial-in number\n646-931-3860 OR 365-835-1687\nMeeting ID: 365 835 1687
URL:https://mtmoriahauburn.com/event/sunday-school-63/
LOCATION:Mt. Moriah Missionary Baptist Church\, 2255 Wrights Mill Rd\, Auburn\, AL\, 36830\, United States
ATTACH;FMTTYPE=image/jpeg:https://mtmoriahauburn.com/wp-content/uploads/2024/11/Sunday-School-image-events.jpg
END:VEVENT
BEGIN:VEVENT
DTSTART;TZID=UTC:20260304T174500
DTEND;TZID=UTC:20260304T184500
DTSTAMP:20260422T220120
CREATED:20260102T195418Z
LAST-MODIFIED:20260102T195418Z
UID:2445-1772646300-1772649900@mtmoriahauburn.com
SUMMARY:Prayer Meeting (Via Zoom)
DESCRIPTION:Join us on the first Wednesday of every month for our prayer meeting via Zoom. \n*Join Zoom Meeting:\nhttps://us02web.zoom.us/j/3658351687\nMeeting ID: 365 835 1687
URL:https://mtmoriahauburn.com/event/prayer-meeting-via-zoom-5/
END:VEVENT
BEGIN:VEVENT
DTSTART;TZID=UTC:20260301T110000
DTEND;TZID=UTC:20260301T123000
DTSTAMP:20260422T220120
CREATED:20260102T194859Z
LAST-MODIFIED:20260102T194859Z
UID:2439-1772362800-1772368200@mtmoriahauburn.com
SUMMARY:Worship Service
DESCRIPTION:We welcome you to worship with us every Sunday at 11am. Our services are also broadcast on Facebook Live for viewing at any time. \nFB: https://www.facebook.com/people/Mt-Moriah-Missionary-Baptist-Church/100064628984280/
URL:https://mtmoriahauburn.com/event/worship-service-64/
LOCATION:Mt. Moriah Missionary Baptist Church\, 2255 Wrights Mill Rd\, Auburn\, AL\, 36830\, United States
ATTACH;FMTTYPE=image/jpeg:https://mtmoriahauburn.com/wp-content/uploads/2024/11/Sign-Outside-Church.jpg
END:VEVENT
BEGIN:VEVENT
DTSTART;TZID=UTC:20260301T093000
DTEND;TZID=UTC:20260301T103000
DTSTAMP:20260422T220120
CREATED:20260102T200708Z
LAST-MODIFIED:20260102T200708Z
UID:2459-1772357400-1772361000@mtmoriahauburn.com
SUMMARY:Sunday School
DESCRIPTION:In-person weekly Sunday School begins at 9:30am. If you can’t make it in person\, you can join us from home\, via Zoom. Copy the link or use the dial-in number and enter the meeting ID. \n*Join Zoom Meeting\nhttps://us02web.zoom.us/j/3658351687\nMeeting ID: 365 835 1687 \n*Dial-in number\n646-931-3860 OR 365-835-1687\nMeeting ID: 365 835 1687
URL:https://mtmoriahauburn.com/event/sunday-school-62/
LOCATION:Mt. Moriah Missionary Baptist Church\, 2255 Wrights Mill Rd\, Auburn\, AL\, 36830\, United States
ATTACH;FMTTYPE=image/jpeg:https://mtmoriahauburn.com/wp-content/uploads/2024/11/Sunday-School-image-events.jpg
END:VEVENT
BEGIN:VEVENT
DTSTART;TZID=UTC:20260225T174500
DTEND;TZID=UTC:20260225T184500
DTSTAMP:20260422T220120
CREATED:20260102T200539Z
LAST-MODIFIED:20260114T193846Z
UID:2457-1772041500-1772045100@mtmoriahauburn.com
SUMMARY:Bible Study
DESCRIPTION:Join us for our Bible Study in person or via Zoom. \n*Join Zoom Meeting\nhttps://us02web.zoom.us/j/3658351687\nMeeting ID: 365 835 1687
URL:https://mtmoriahauburn.com/event/bible-study-via-zoom-6/
LOCATION:Mt. Moriah Missionary Baptist Church\, 2255 Wrights Mill Rd\, Auburn\, AL\, 36830\, United States
ATTACH;FMTTYPE=image/png:https://mtmoriahauburn.com/wp-content/uploads/2024/11/Bible-Study-Image.png
END:VEVENT
BEGIN:VEVENT
DTSTART;TZID=UTC:20260222T110000
DTEND;TZID=UTC:20260222T123000
DTSTAMP:20260422T220120
CREATED:20260102T194752Z
LAST-MODIFIED:20260102T194752Z
UID:2437-1771758000-1771763400@mtmoriahauburn.com
SUMMARY:Worship Service
DESCRIPTION:We welcome you to worship with us every Sunday at 11am. Our services are also broadcast on Facebook Live for viewing at any time. \nFB: https://www.facebook.com/people/Mt-Moriah-Missionary-Baptist-Church/100064628984280/
URL:https://mtmoriahauburn.com/event/worship-service-63/
LOCATION:Mt. Moriah Missionary Baptist Church\, 2255 Wrights Mill Rd\, Auburn\, AL\, 36830\, United States
ATTACH;FMTTYPE=image/jpeg:https://mtmoriahauburn.com/wp-content/uploads/2024/11/Sign-Outside-Church.jpg
END:VEVENT
BEGIN:VEVENT
DTSTART;TZID=UTC:20260222T093000
DTEND;TZID=UTC:20260222T103000
DTSTAMP:20260422T220120
CREATED:20260102T193757Z
LAST-MODIFIED:20260102T193757Z
UID:2421-1771752600-1771756200@mtmoriahauburn.com
SUMMARY:Sunday School
DESCRIPTION:In-person weekly Sunday School begins at 9:30am. If you can’t make it in person\, you can join us from home\, via Zoom. Copy the link or use the dial-in number and enter the meeting ID. \n*Join Zoom Meeting\nhttps://us02web.zoom.us/j/3658351687\nMeeting ID: 365 835 1687 \n*Dial-in number\n646-931-3860 OR 365-835-1687\nMeeting ID: 365 835 1687
URL:https://mtmoriahauburn.com/event/sunday-school-61/
LOCATION:Mt. Moriah Missionary Baptist Church\, 2255 Wrights Mill Rd\, Auburn\, AL\, 36830\, United States
ATTACH;FMTTYPE=image/jpeg:https://mtmoriahauburn.com/wp-content/uploads/2024/11/Sunday-School-image-events.jpg
END:VEVENT
BEGIN:VEVENT
DTSTART;TZID=UTC:20260218T174500
DTEND;TZID=UTC:20260218T184500
DTSTAMP:20260422T220120
CREATED:20260102T200448Z
LAST-MODIFIED:20260114T193832Z
UID:2455-1771436700-1771440300@mtmoriahauburn.com
SUMMARY:Bible Study
DESCRIPTION:Join us for our Bible Study in person or via Zoom. \n*Join Zoom Meeting\nhttps://us02web.zoom.us/j/3658351687\nMeeting ID: 365 835 1687
URL:https://mtmoriahauburn.com/event/bible-study-via-zoom-5/
LOCATION:Mt. Moriah Missionary Baptist Church\, 2255 Wrights Mill Rd\, Auburn\, AL\, 36830\, United States
ATTACH;FMTTYPE=image/png:https://mtmoriahauburn.com/wp-content/uploads/2024/11/Bible-Study-Image.png
END:VEVENT
BEGIN:VEVENT
DTSTART;TZID=UTC:20260215T110000
DTEND;TZID=UTC:20260215T123000
DTSTAMP:20260422T220120
CREATED:20260102T194647Z
LAST-MODIFIED:20260102T194647Z
UID:2435-1771153200-1771158600@mtmoriahauburn.com
SUMMARY:Worship Service
DESCRIPTION:We welcome you to worship with us every Sunday at 11am. Our services are also broadcast on Facebook Live for viewing at any time. \nFB: https://www.facebook.com/people/Mt-Moriah-Missionary-Baptist-Church/100064628984280/
URL:https://mtmoriahauburn.com/event/worship-service-62/
LOCATION:Mt. Moriah Missionary Baptist Church\, 2255 Wrights Mill Rd\, Auburn\, AL\, 36830\, United States
ATTACH;FMTTYPE=image/jpeg:https://mtmoriahauburn.com/wp-content/uploads/2024/11/Sign-Outside-Church.jpg
END:VEVENT
BEGIN:VEVENT
DTSTART;TZID=UTC:20260215T093000
DTEND;TZID=UTC:20260215T103000
DTSTAMP:20260422T220120
CREATED:20260102T193659Z
LAST-MODIFIED:20260102T193659Z
UID:2419-1771147800-1771151400@mtmoriahauburn.com
SUMMARY:Sunday School
DESCRIPTION:In-person weekly Sunday School begins at 9:30am. If you can’t make it in person\, you can join us from home\, via Zoom. Copy the link or use the dial-in number and enter the meeting ID. \n*Join Zoom Meeting\nhttps://us02web.zoom.us/j/3658351687\nMeeting ID: 365 835 1687 \n*Dial-in number\n646-931-3860 OR 365-835-1687\nMeeting ID: 365 835 1687
URL:https://mtmoriahauburn.com/event/sunday-school-60/
LOCATION:Mt. Moriah Missionary Baptist Church\, 2255 Wrights Mill Rd\, Auburn\, AL\, 36830\, United States
ATTACH;FMTTYPE=image/jpeg:https://mtmoriahauburn.com/wp-content/uploads/2024/11/Sunday-School-image-events.jpg
END:VEVENT
BEGIN:VEVENT
DTSTART;TZID=UTC:20260211T174500
DTEND;TZID=UTC:20260211T184500
DTSTAMP:20260422T220120
CREATED:20260102T200326Z
LAST-MODIFIED:20260114T193920Z
UID:2453-1770831900-1770835500@mtmoriahauburn.com
SUMMARY:Bible Study
DESCRIPTION:Join us for our Bible Study in person or via Zoom. \n*Join Zoom Meeting\nhttps://us02web.zoom.us/j/3658351687\nMeeting ID: 365 835 1687
URL:https://mtmoriahauburn.com/event/bible-study-via-zoom-4/
LOCATION:Mt. Moriah Missionary Baptist Church\, 2255 Wrights Mill Rd\, Auburn\, AL\, 36830\, United States
ATTACH;FMTTYPE=image/png:https://mtmoriahauburn.com/wp-content/uploads/2024/11/Bible-Study-Image.png
END:VEVENT
BEGIN:VEVENT
DTSTART;TZID=UTC:20260208T110000
DTEND;TZID=UTC:20260208T123000
DTSTAMP:20260422T220120
CREATED:20260102T194549Z
LAST-MODIFIED:20260102T194549Z
UID:2433-1770548400-1770553800@mtmoriahauburn.com
SUMMARY:Worship Service
DESCRIPTION:We welcome you to worship with us every Sunday at 11am. Our services are also broadcast on Facebook Live for viewing at any time. \nFB: https://www.facebook.com/people/Mt-Moriah-Missionary-Baptist-Church/100064628984280/
URL:https://mtmoriahauburn.com/event/worship-service-61/
LOCATION:Mt. Moriah Missionary Baptist Church\, 2255 Wrights Mill Rd\, Auburn\, AL\, 36830\, United States
ATTACH;FMTTYPE=image/jpeg:https://mtmoriahauburn.com/wp-content/uploads/2024/11/Sign-Outside-Church.jpg
END:VEVENT
BEGIN:VEVENT
DTSTART;TZID=UTC:20260208T093000
DTEND;TZID=UTC:20260208T103000
DTSTAMP:20260422T220120
CREATED:20260102T192808Z
LAST-MODIFIED:20260102T192808Z
UID:2417-1770543000-1770546600@mtmoriahauburn.com
SUMMARY:Sunday School
DESCRIPTION:In-person weekly Sunday School begins at 9:30am. If you can’t make it in person\, you can join us from home\, via Zoom. Copy the link or use the dial-in number and enter the meeting ID. \n*Join Zoom Meeting\nhttps://us02web.zoom.us/j/3658351687\nMeeting ID: 365 835 1687 \n*Dial-in number\n646-931-3860 OR 365-835-1687\nMeeting ID: 365 835 1687
URL:https://mtmoriahauburn.com/event/sunday-school-59/
LOCATION:Mt. Moriah Missionary Baptist Church\, 2255 Wrights Mill Rd\, Auburn\, AL\, 36830\, United States
ATTACH;FMTTYPE=image/jpeg:https://mtmoriahauburn.com/wp-content/uploads/2024/11/Sunday-School-image-events.jpg
END:VEVENT
BEGIN:VEVENT
DTSTART;TZID=UTC:20260204T174500
DTEND;TZID=UTC:20260204T184500
DTSTAMP:20260422T220120
CREATED:20260102T195329Z
LAST-MODIFIED:20260102T195329Z
UID:2443-1770227100-1770230700@mtmoriahauburn.com
SUMMARY:Prayer Meeting (Via Zoom)
DESCRIPTION:Join us on the first Wednesday of every month for our prayer meeting via Zoom. \n*Join Zoom Meeting:\nhttps://us02web.zoom.us/j/3658351687\nMeeting ID: 365 835 1687
URL:https://mtmoriahauburn.com/event/prayer-meeting-via-zoom-4/
END:VEVENT
BEGIN:VEVENT
DTSTART;TZID=UTC:20260201T110000
DTEND;TZID=UTC:20260201T123000
DTSTAMP:20260422T220120
CREATED:20260102T194438Z
LAST-MODIFIED:20260102T194438Z
UID:2431-1769943600-1769949000@mtmoriahauburn.com
SUMMARY:Worship Service
DESCRIPTION:We welcome you to worship with us every Sunday at 11am. Our services are also broadcast on Facebook Live for viewing at any time. \nFB: https://www.facebook.com/people/Mt-Moriah-Missionary-Baptist-Church/100064628984280/
URL:https://mtmoriahauburn.com/event/worship-service-60/
LOCATION:Mt. Moriah Missionary Baptist Church\, 2255 Wrights Mill Rd\, Auburn\, AL\, 36830\, United States
ATTACH;FMTTYPE=image/jpeg:https://mtmoriahauburn.com/wp-content/uploads/2024/11/Sign-Outside-Church.jpg
END:VEVENT
BEGIN:VEVENT
DTSTART;TZID=UTC:20260201T093000
DTEND;TZID=UTC:20260201T103000
DTSTAMP:20260422T220120
CREATED:20260102T192329Z
LAST-MODIFIED:20260102T192329Z
UID:2415-1769938200-1769941800@mtmoriahauburn.com
SUMMARY:Sunday School
DESCRIPTION:In-person weekly Sunday School begins at 9:30am. If you can’t make it in person\, you can join us from home\, via Zoom. Copy the link or use the dial-in number and enter the meeting ID.  \n*Join Zoom Meeting\nhttps://us02web.zoom.us/j/3658351687\nMeeting ID: 365 835 1687 \n*Dial-in number\n646-931-3860 OR 365-835-1687\nMeeting ID: 365 835 1687
URL:https://mtmoriahauburn.com/event/sunday-school-58/
LOCATION:Mt. Moriah Missionary Baptist Church\, 2255 Wrights Mill Rd\, Auburn\, AL\, 36830\, United States
ATTACH;FMTTYPE=image/jpeg:https://mtmoriahauburn.com/wp-content/uploads/2024/11/Sunday-School-image-events.jpg
END:VEVENT
BEGIN:VEVENT
DTSTART;TZID=UTC:20260128T174500
DTEND;TZID=UTC:20260128T184500
DTSTAMP:20260422T220120
CREATED:20260102T200233Z
LAST-MODIFIED:20260114T193955Z
UID:2451-1769622300-1769625900@mtmoriahauburn.com
SUMMARY:Bible Study
DESCRIPTION:Join us for our Bible Study in person or via Zoom. \n*Join Zoom Meeting\nhttps://us02web.zoom.us/j/3658351687\nMeeting ID: 365 835 1687
URL:https://mtmoriahauburn.com/event/bible-study-via-zoom-3/
LOCATION:Mt. Moriah Missionary Baptist Church\, 2255 Wrights Mill Rd\, Auburn\, AL\, 36830\, United States
ATTACH;FMTTYPE=image/png:https://mtmoriahauburn.com/wp-content/uploads/2024/11/Bible-Study-Image.png
END:VEVENT
BEGIN:VEVENT
DTSTART;TZID=UTC:20260125T110000
DTEND;TZID=UTC:20260125T123000
DTSTAMP:20260422T220120
CREATED:20260102T194319Z
LAST-MODIFIED:20260102T194319Z
UID:2429-1769338800-1769344200@mtmoriahauburn.com
SUMMARY:Worship Service
DESCRIPTION:We welcome you to worship with us every Sunday at 11am. Our services are also broadcast on Facebook Live for viewing at any time. \nFB: https://www.facebook.com/people/Mt-Moriah-Missionary-Baptist-Church/100064628984280/
URL:https://mtmoriahauburn.com/event/worship-service-59/
LOCATION:Mt. Moriah Missionary Baptist Church\, 2255 Wrights Mill Rd\, Auburn\, AL\, 36830\, United States
ATTACH;FMTTYPE=image/jpeg:https://mtmoriahauburn.com/wp-content/uploads/2024/11/Sign-Outside-Church.jpg
END:VEVENT
BEGIN:VEVENT
DTSTART;TZID=UTC:20260125T093000
DTEND;TZID=UTC:20260125T103000
DTSTAMP:20260422T220120
CREATED:20260102T192226Z
LAST-MODIFIED:20260102T192226Z
UID:2413-1769333400-1769337000@mtmoriahauburn.com
SUMMARY:Sunday School
DESCRIPTION:In-person weekly Sunday School begins at 9:30am. If you can’t make it in person\, you can join us from home\, via Zoom. Copy the link or use the dial-in number and enter the meeting ID.  \n*Join Zoom Meeting\nhttps://us02web.zoom.us/j/3658351687\nMeeting ID: 365 835 1687 \n*Dial-in number\n646-931-3860 OR 365-835-1687\nMeeting ID: 365 835 1687
URL:https://mtmoriahauburn.com/event/sunday-school-57/
LOCATION:Mt. Moriah Missionary Baptist Church\, 2255 Wrights Mill Rd\, Auburn\, AL\, 36830\, United States
ATTACH;FMTTYPE=image/jpeg:https://mtmoriahauburn.com/wp-content/uploads/2024/11/Sunday-School-image-events.jpg
END:VEVENT
END:VCALENDAR