BEGIN:VCALENDAR
VERSION:2.0
PRODID:-//Mt. Moriah Missionary Baptist Church - ECPv6.15.17.1//NONSGML v1.0//EN
CALSCALE:GREGORIAN
METHOD:PUBLISH
X-WR-CALNAME:Mt. Moriah Missionary Baptist Church
X-ORIGINAL-URL:https://mtmoriahauburn.com
X-WR-CALDESC:Events for Mt. Moriah Missionary Baptist Church
REFRESH-INTERVAL;VALUE=DURATION:PT1H
X-Robots-Tag:noindex
X-PUBLISHED-TTL:PT1H
BEGIN:VTIMEZONE
TZID:UTC
BEGIN:STANDARD
TZOFFSETFROM:+0000
TZOFFSETTO:+0000
TZNAME:UTC
DTSTART:20250101T000000
END:STANDARD
END:VTIMEZONE
BEGIN:VEVENT
DTSTART;TZID=UTC:20260301T093000
DTEND;TZID=UTC:20260301T103000
DTSTAMP:20260423T035417
CREATED:20260102T200708Z
LAST-MODIFIED:20260102T200708Z
UID:2459-1772357400-1772361000@mtmoriahauburn.com
SUMMARY:Sunday School
DESCRIPTION:In-person weekly Sunday School begins at 9:30am. If you can’t make it in person\, you can join us from home\, via Zoom. Copy the link or use the dial-in number and enter the meeting ID. \n*Join Zoom Meeting\nhttps://us02web.zoom.us/j/3658351687\nMeeting ID: 365 835 1687 \n*Dial-in number\n646-931-3860 OR 365-835-1687\nMeeting ID: 365 835 1687
URL:https://mtmoriahauburn.com/event/sunday-school-62/
LOCATION:Mt. Moriah Missionary Baptist Church\, 2255 Wrights Mill Rd\, Auburn\, AL\, 36830\, United States
ATTACH;FMTTYPE=image/jpeg:https://mtmoriahauburn.com/wp-content/uploads/2024/11/Sunday-School-image-events.jpg
END:VEVENT
BEGIN:VEVENT
DTSTART;TZID=UTC:20260301T110000
DTEND;TZID=UTC:20260301T123000
DTSTAMP:20260423T035417
CREATED:20260102T194859Z
LAST-MODIFIED:20260102T194859Z
UID:2439-1772362800-1772368200@mtmoriahauburn.com
SUMMARY:Worship Service
DESCRIPTION:We welcome you to worship with us every Sunday at 11am. Our services are also broadcast on Facebook Live for viewing at any time. \nFB: https://www.facebook.com/people/Mt-Moriah-Missionary-Baptist-Church/100064628984280/
URL:https://mtmoriahauburn.com/event/worship-service-64/
LOCATION:Mt. Moriah Missionary Baptist Church\, 2255 Wrights Mill Rd\, Auburn\, AL\, 36830\, United States
ATTACH;FMTTYPE=image/jpeg:https://mtmoriahauburn.com/wp-content/uploads/2024/11/Sign-Outside-Church.jpg
END:VEVENT
END:VCALENDAR