BEGIN:VCALENDAR
VERSION:2.0
PRODID:-//Mt. Moriah Missionary Baptist Church - ECPv6.15.17.1//NONSGML v1.0//EN
CALSCALE:GREGORIAN
METHOD:PUBLISH
X-WR-CALNAME:Mt. Moriah Missionary Baptist Church
X-ORIGINAL-URL:https://mtmoriahauburn.com
X-WR-CALDESC:Events for Mt. Moriah Missionary Baptist Church
REFRESH-INTERVAL;VALUE=DURATION:PT1H
X-Robots-Tag:noindex
X-PUBLISHED-TTL:PT1H
BEGIN:VTIMEZONE
TZID:UTC
BEGIN:STANDARD
TZOFFSETFROM:+0000
TZOFFSETTO:+0000
TZNAME:UTC
DTSTART:20250101T000000
END:STANDARD
END:VTIMEZONE
BEGIN:VEVENT
DTSTART;TZID=UTC:20260211T174500
DTEND;TZID=UTC:20260211T184500
DTSTAMP:20260423T021543
CREATED:20260102T200326Z
LAST-MODIFIED:20260114T193920Z
UID:2453-1770831900-1770835500@mtmoriahauburn.com
SUMMARY:Bible Study
DESCRIPTION:Join us for our Bible Study in person or via Zoom. \n*Join Zoom Meeting\nhttps://us02web.zoom.us/j/3658351687\nMeeting ID: 365 835 1687
URL:https://mtmoriahauburn.com/event/bible-study-via-zoom-4/
LOCATION:Mt. Moriah Missionary Baptist Church\, 2255 Wrights Mill Rd\, Auburn\, AL\, 36830\, United States
ATTACH;FMTTYPE=image/png:https://mtmoriahauburn.com/wp-content/uploads/2024/11/Bible-Study-Image.png
END:VEVENT
END:VCALENDAR