BEGIN:VCALENDAR
VERSION:2.0
PRODID:-//Mt. Moriah Missionary Baptist Church - ECPv6.15.17.1//NONSGML v1.0//EN
CALSCALE:GREGORIAN
METHOD:PUBLISH
X-ORIGINAL-URL:https://mtmoriahauburn.com
X-WR-CALDESC:Events for Mt. Moriah Missionary Baptist Church
REFRESH-INTERVAL;VALUE=DURATION:PT1H
X-Robots-Tag:noindex
X-PUBLISHED-TTL:PT1H
BEGIN:VTIMEZONE
TZID:UTC
BEGIN:STANDARD
TZOFFSETFROM:+0000
TZOFFSETTO:+0000
TZNAME:UTC
DTSTART:20250101T000000
END:STANDARD
END:VTIMEZONE
BEGIN:VEVENT
DTSTART;TZID=UTC:20260107T174500
DTEND;TZID=UTC:20260107T184500
DTSTAMP:20260423T091035
CREATED:20260102T195240Z
LAST-MODIFIED:20260102T200025Z
UID:2441-1767807900-1767811500@mtmoriahauburn.com
SUMMARY:Prayer Meeting (Via Zoom)
DESCRIPTION:Join us on the first Wednesday of every month for our prayer meeting via Zoom. \n*Join Zoom Meeting:\nhttps://us02web.zoom.us/j/3658351687\nMeeting ID: 365 835 1687
URL:https://mtmoriahauburn.com/event/prayer-meeting-via-zoom-3/
END:VEVENT
END:VCALENDAR